BEGIN:VCALENDAR
VERSION:2.0
PRODID:-//achurchnearyou.com//eventfeed//EN
CALSCALE:GREGORIAN
METHOD:PUBLISH
X-WR-TIMEZONE:UTC
BEGIN:VEVENT
SUMMARY:Candlemas - Holy Communion
DTSTART:20250202T110000Z
DTEND:20250202T120000Z
DTSTAMP:20260420T030328Z
UID:9058002025-02-02 11:00:00+00:00achurchnearyou
CATEGORIES:
DESCRIPTION:This Christian festival commemorates the presentation of Jesus
  at the Temple of Jerusalem
GEO:-2.821692;53.578269
LOCATION:Lathom Park Chapel
URL:https://www.achurchnearyou.com/church/15236/service-and-events/events/
 905800/
END:VEVENT
END:VCALENDAR
