BEGIN:VCALENDAR
VERSION:2.0
PRODID:-//achurchnearyou.com//eventfeed//EN
CALSCALE:GREGORIAN
METHOD:PUBLISH
X-WR-TIMEZONE:UTC
BEGIN:VEVENT
SUMMARY:Looking through the Cross
DTSTART;TZID=Europe/London:20260305T103000
DTEND;TZID=Europe/London:20260305T113000
DTSTAMP:20260426T054141Z
UID:12830502026-03-05 10:30:00+00:00achurchnearyou
CATEGORIES:
DESCRIPTION:This is a fresh look at the meaning of the cross in a complex 
 and turbulent world. Things often look very different when seen through th
 e lens of the cross. It is a 4 session study during Lent on Thursdays afte
 r the weekly communion service
GEO:-2.763802;53.415684
LOCATION:St Ann's Church\, Rainhill
URL:https://www.achurchnearyou.com/church/15269/service-and-events/events/
 1283050/
END:VEVENT
BEGIN:VEVENT
SUMMARY:Looking through the Cross
DTSTART;TZID=Europe/London:20260312T103000
DTEND;TZID=Europe/London:20260312T113000
DTSTAMP:20260426T054141Z
UID:12830502026-03-12 10:30:00+00:00achurchnearyou
CATEGORIES:
DESCRIPTION:This is a fresh look at the meaning of the cross in a complex 
 and turbulent world. Things often look very different when seen through th
 e lens of the cross. It is a 4 session study during Lent on Thursdays afte
 r the weekly communion service
GEO:-2.763802;53.415684
LOCATION:St Ann's Church\, Rainhill
URL:https://www.achurchnearyou.com/church/15269/service-and-events/events/
 1283050/
END:VEVENT
BEGIN:VEVENT
SUMMARY:Looking through the Cross
DTSTART;TZID=Europe/London:20260319T103000
DTEND;TZID=Europe/London:20260319T113000
DTSTAMP:20260426T054141Z
UID:12830502026-03-19 10:30:00+00:00achurchnearyou
CATEGORIES:
DESCRIPTION:This is a fresh look at the meaning of the cross in a complex 
 and turbulent world. Things often look very different when seen through th
 e lens of the cross. It is a 4 session study during Lent on Thursdays afte
 r the weekly communion service
GEO:-2.763802;53.415684
LOCATION:St Ann's Church\, Rainhill
URL:https://www.achurchnearyou.com/church/15269/service-and-events/events/
 1283050/
END:VEVENT
BEGIN:VEVENT
SUMMARY:Looking through the Cross
DTSTART;TZID=Europe/London:20260326T103000
DTEND;TZID=Europe/London:20260326T113000
DTSTAMP:20260426T054141Z
UID:12830502026-03-26 10:30:00+00:00achurchnearyou
CATEGORIES:
DESCRIPTION:This is a fresh look at the meaning of the cross in a complex 
 and turbulent world. Things often look very different when seen through th
 e lens of the cross. It is a 4 session study during Lent on Thursdays afte
 r the weekly communion service
GEO:-2.763802;53.415684
LOCATION:St Ann's Church\, Rainhill
URL:https://www.achurchnearyou.com/church/15269/service-and-events/events/
 1283050/
END:VEVENT
END:VCALENDAR
