BEGIN:VCALENDAR
VERSION:2.0
PRODID:-//achurchnearyou.com//eventfeed//EN
CALSCALE:GREGORIAN
METHOD:PUBLISH
X-WR-TIMEZONE:UTC
BEGIN:VEVENT
SUMMARY:Mothering Sunday All-together worship
DTSTART:20260315T103000Z
DTEND:20260315T113000Z
DTSTAMP:20260426T054121Z
UID:13054772026-03-15 10:30:00+00:00achurchnearyou
CATEGORIES:
DESCRIPTION:A special service to celebrate our mothers\, and all they do f
 or us. This is an all age worship service led by the Platform 2 team
GEO:-2.763802;53.415684
LOCATION:St Ann's Church\, Rainhill
URL:https://www.achurchnearyou.com/church/15269/service-and-events/events/
 1305477/
END:VEVENT
END:VCALENDAR
