BEGIN:VCALENDAR
VERSION:2.0
PRODID:-//achurchnearyou.com//eventfeed//EN
CALSCALE:GREGORIAN
METHOD:PUBLISH
X-WR-TIMEZONE:UTC
BEGIN:VEVENT
SUMMARY:Meet Father Christmas
DTSTART:20251216T150000Z
DTEND:20251216T170000Z
DTSTAMP:20260421T195816Z
UID:12715392025-12-16 15:00:00+00:00achurchnearyou
CATEGORIES:
DESCRIPTION:Come and meet Father Christmas and take part in singing and Ch
 ristmas Crafts. Tickets £2
GEO:-2.703366;53.437285
LOCATION:All Saints\, Sutton
URL:https://www.achurchnearyou.com/church/15275/service-and-events/events/
 1271539/
END:VEVENT
END:VCALENDAR
