BEGIN:VCALENDAR
VERSION:2.0
PRODID:-//achurchnearyou.com//eventfeed//EN
CALSCALE:GREGORIAN
METHOD:PUBLISH
X-WR-TIMEZONE:UTC
BEGIN:VEVENT
SUMMARY:Walk of Witness
DTSTART:20260403T100000Z
DTEND:20260403T110000Z
DTSTAMP:20260424T033038Z
UID:13146652026-04-03 10:00:00+00:00achurchnearyou
CATEGORIES:
DESCRIPTION:Ecumenical  Walk from Church to  the War Memorial
GEO:-2.795321;53.332543
LOCATION:St Mary's\, Hale and Halebank
URL:https://www.achurchnearyou.com/church/15301/service-and-events/events/
 1314665/
END:VEVENT
END:VCALENDAR
