BEGIN:VCALENDAR
VERSION:2.0
PRODID:-//achurchnearyou.com//eventfeed//EN
CALSCALE:GREGORIAN
METHOD:PUBLISH
X-WR-TIMEZONE:UTC
BEGIN:VEVENT
SUMMARY:All Age Epiphany Service - Joint Holy Communion Service
DTSTART:20260104T103000Z
DTEND:20260104T113000Z
DTSTAMP:20260422T155408Z
UID:11276792026-01-04 10:30:00+00:00achurchnearyou
CATEGORIES:
DESCRIPTION:An all age Epiphany service with Holy Communion led by Rev Mar
 tin Cox\, Rev Trevor Hodson and Rev Martin Fuller. This is a joint service
  with Newchurch Parish Church and St Oswald’s Parish Church. \nTea\, cof
 fee\, fruit Juice and refreshments are served in the church hall after the
  service.
GEO:-2.543331;53.437471
LOCATION:Christ Church
URL:https://www.achurchnearyou.com/church/15309/service-and-events/events/
 1127679/
END:VEVENT
END:VCALENDAR
