BEGIN:VCALENDAR
VERSION:2.0
PRODID:-//achurchnearyou.com//eventfeed//EN
CALSCALE:GREGORIAN
METHOD:PUBLISH
X-WR-TIMEZONE:UTC
BEGIN:VEVENT
SUMMARY:World Day of Prayer
DTSTART:20260306T183000Z
DTEND:20260306T193000Z
DTSTAMP:20260420T082947Z
UID:12924842026-03-06 18:30:00+00:00achurchnearyou
CATEGORIES:
DESCRIPTION:The World Day of Prayer prepared by the women of Nigeria. The 
 theme this year is ‘I will give you rest\, come’. The service is tradi
 tionally a ‘Churches Together Service’. All are welcome.
LOCATION:Newchurch Parish Church
URL:https://www.achurchnearyou.com/church/15309/service-and-events/events/
 1292484/
END:VEVENT
END:VCALENDAR
