BEGIN:VCALENDAR
VERSION:2.0
PRODID:-//achurchnearyou.com//eventfeed//EN
CALSCALE:GREGORIAN
METHOD:PUBLISH
X-WR-TIMEZONE:UTC
BEGIN:VEVENT
SUMMARY:Tabletop sale
DTSTART:20250322T100000Z
DTEND:20250322T140000Z
DTSTAMP:20260420T001617Z
UID:11755562025-03-22 10:00:00+00:00achurchnearyou
CATEGORIES:
DESCRIPTION:On Saturday 22nd March in Church. If you would like a table pl
 ease contact Sue Cooper 07368 347812.\nRefreshments available.
GEO:-2.636141;53.455986
LOCATION:All Saints\, Newton-le-Willows
URL:https://www.achurchnearyou.com/church/15318/service-and-events/events/
 1175556/
END:VEVENT
END:VCALENDAR
