BEGIN:VCALENDAR
VERSION:2.0
PRODID:-//achurchnearyou.com//eventfeed//EN
CALSCALE:GREGORIAN
METHOD:PUBLISH
X-WR-TIMEZONE:UTC
BEGIN:VEVENT
SUMMARY:Holy Communion
DTSTART;TZID=Europe/London:20260422T100000
DTEND;TZID=Europe/London:20260422T110000
DTSTAMP:20260421T171149Z
UID:11512622026-04-22 10:00:00+01:00achurchnearyou
CATEGORIES:
DESCRIPTION:A service from the Common Worship book including hymns\, praye
 rs and Bible readings and the sharing of bread and wine.
GEO:-2.66836;53.498962
LOCATION:Holy Trinity\, Ashton in Makerfield
URL:https://www.achurchnearyou.com/church/15322/service-and-events/events/
 1151262/
END:VEVENT
BEGIN:VEVENT
SUMMARY:Holy Communion
DTSTART;TZID=Europe/London:20260513T100000
DTEND;TZID=Europe/London:20260513T110000
DTSTAMP:20260421T171149Z
UID:11512622026-05-13 10:00:00+01:00achurchnearyou
CATEGORIES:
DESCRIPTION:A service from the Common Worship book including hymns\, praye
 rs and Bible readings and the sharing of bread and wine.
GEO:-2.66836;53.498962
LOCATION:Holy Trinity\, Ashton in Makerfield
URL:https://www.achurchnearyou.com/church/15322/service-and-events/events/
 1151262/
END:VEVENT
BEGIN:VEVENT
SUMMARY:Holy Communion
DTSTART;TZID=Europe/London:20260527T100000
DTEND;TZID=Europe/London:20260527T110000
DTSTAMP:20260421T171149Z
UID:11512622026-05-27 10:00:00+01:00achurchnearyou
CATEGORIES:
DESCRIPTION:A service from the Common Worship book including hymns\, praye
 rs and Bible readings and the sharing of bread and wine.
GEO:-2.66836;53.498962
LOCATION:Holy Trinity\, Ashton in Makerfield
URL:https://www.achurchnearyou.com/church/15322/service-and-events/events/
 1151262/
END:VEVENT
BEGIN:VEVENT
SUMMARY:Holy Communion
DTSTART;TZID=Europe/London:20260610T100000
DTEND;TZID=Europe/London:20260610T110000
DTSTAMP:20260421T171149Z
UID:11512622026-06-10 10:00:00+01:00achurchnearyou
CATEGORIES:
DESCRIPTION:A service from the Common Worship book including hymns\, praye
 rs and Bible readings and the sharing of bread and wine.
GEO:-2.66836;53.498962
LOCATION:Holy Trinity\, Ashton in Makerfield
URL:https://www.achurchnearyou.com/church/15322/service-and-events/events/
 1151262/
END:VEVENT
BEGIN:VEVENT
SUMMARY:Holy Communion
DTSTART;TZID=Europe/London:20260624T100000
DTEND;TZID=Europe/London:20260624T110000
DTSTAMP:20260421T171149Z
UID:11512622026-06-24 10:00:00+01:00achurchnearyou
CATEGORIES:
DESCRIPTION:A service from the Common Worship book including hymns\, praye
 rs and Bible readings and the sharing of bread and wine.
GEO:-2.66836;53.498962
LOCATION:Holy Trinity\, Ashton in Makerfield
URL:https://www.achurchnearyou.com/church/15322/service-and-events/events/
 1151262/
END:VEVENT
BEGIN:VEVENT
SUMMARY:Holy Communion
DTSTART;TZID=Europe/London:20260708T100000
DTEND;TZID=Europe/London:20260708T110000
DTSTAMP:20260421T171149Z
UID:11512622026-07-08 10:00:00+01:00achurchnearyou
CATEGORIES:
DESCRIPTION:A service from the Common Worship book including hymns\, praye
 rs and Bible readings and the sharing of bread and wine.
GEO:-2.66836;53.498962
LOCATION:Holy Trinity\, Ashton in Makerfield
URL:https://www.achurchnearyou.com/church/15322/service-and-events/events/
 1151262/
END:VEVENT
BEGIN:VEVENT
SUMMARY:Holy Communion
DTSTART;TZID=Europe/London:20260722T100000
DTEND;TZID=Europe/London:20260722T110000
DTSTAMP:20260421T171149Z
UID:11512622026-07-22 10:00:00+01:00achurchnearyou
CATEGORIES:
DESCRIPTION:A service from the Common Worship book including hymns\, praye
 rs and Bible readings and the sharing of bread and wine.
GEO:-2.66836;53.498962
LOCATION:Holy Trinity\, Ashton in Makerfield
URL:https://www.achurchnearyou.com/church/15322/service-and-events/events/
 1151262/
END:VEVENT
BEGIN:VEVENT
SUMMARY:Holy Communion
DTSTART;TZID=Europe/London:20260812T100000
DTEND;TZID=Europe/London:20260812T110000
DTSTAMP:20260421T171149Z
UID:11512622026-08-12 10:00:00+01:00achurchnearyou
CATEGORIES:
DESCRIPTION:A service from the Common Worship book including hymns\, praye
 rs and Bible readings and the sharing of bread and wine.
GEO:-2.66836;53.498962
LOCATION:Holy Trinity\, Ashton in Makerfield
URL:https://www.achurchnearyou.com/church/15322/service-and-events/events/
 1151262/
END:VEVENT
BEGIN:VEVENT
SUMMARY:Holy Communion
DTSTART;TZID=Europe/London:20260826T100000
DTEND;TZID=Europe/London:20260826T110000
DTSTAMP:20260421T171149Z
UID:11512622026-08-26 10:00:00+01:00achurchnearyou
CATEGORIES:
DESCRIPTION:A service from the Common Worship book including hymns\, praye
 rs and Bible readings and the sharing of bread and wine.
GEO:-2.66836;53.498962
LOCATION:Holy Trinity\, Ashton in Makerfield
URL:https://www.achurchnearyou.com/church/15322/service-and-events/events/
 1151262/
END:VEVENT
BEGIN:VEVENT
SUMMARY:Holy Communion
DTSTART;TZID=Europe/London:20260909T100000
DTEND;TZID=Europe/London:20260909T110000
DTSTAMP:20260421T171149Z
UID:11512622026-09-09 10:00:00+01:00achurchnearyou
CATEGORIES:
DESCRIPTION:A service from the Common Worship book including hymns\, praye
 rs and Bible readings and the sharing of bread and wine.
GEO:-2.66836;53.498962
LOCATION:Holy Trinity\, Ashton in Makerfield
URL:https://www.achurchnearyou.com/church/15322/service-and-events/events/
 1151262/
END:VEVENT
BEGIN:VEVENT
SUMMARY:Holy Communion
DTSTART;TZID=Europe/London:20260923T100000
DTEND;TZID=Europe/London:20260923T110000
DTSTAMP:20260421T171149Z
UID:11512622026-09-23 10:00:00+01:00achurchnearyou
CATEGORIES:
DESCRIPTION:A service from the Common Worship book including hymns\, praye
 rs and Bible readings and the sharing of bread and wine.
GEO:-2.66836;53.498962
LOCATION:Holy Trinity\, Ashton in Makerfield
URL:https://www.achurchnearyou.com/church/15322/service-and-events/events/
 1151262/
END:VEVENT
BEGIN:VEVENT
SUMMARY:Holy Communion
DTSTART;TZID=Europe/London:20261014T100000
DTEND;TZID=Europe/London:20261014T110000
DTSTAMP:20260421T171149Z
UID:11512622026-10-14 10:00:00+01:00achurchnearyou
CATEGORIES:
DESCRIPTION:A service from the Common Worship book including hymns\, praye
 rs and Bible readings and the sharing of bread and wine.
GEO:-2.66836;53.498962
LOCATION:Holy Trinity\, Ashton in Makerfield
URL:https://www.achurchnearyou.com/church/15322/service-and-events/events/
 1151262/
END:VEVENT
BEGIN:VEVENT
SUMMARY:Holy Communion
DTSTART;TZID=Europe/London:20261028T100000
DTEND;TZID=Europe/London:20261028T110000
DTSTAMP:20260421T171149Z
UID:11512622026-10-28 10:00:00+00:00achurchnearyou
CATEGORIES:
DESCRIPTION:A service from the Common Worship book including hymns\, praye
 rs and Bible readings and the sharing of bread and wine.
GEO:-2.66836;53.498962
LOCATION:Holy Trinity\, Ashton in Makerfield
URL:https://www.achurchnearyou.com/church/15322/service-and-events/events/
 1151262/
END:VEVENT
BEGIN:VEVENT
SUMMARY:Holy Communion
DTSTART;TZID=Europe/London:20261111T100000
DTEND;TZID=Europe/London:20261111T110000
DTSTAMP:20260421T171149Z
UID:11512622026-11-11 10:00:00+00:00achurchnearyou
CATEGORIES:
DESCRIPTION:A service from the Common Worship book including hymns\, praye
 rs and Bible readings and the sharing of bread and wine.
GEO:-2.66836;53.498962
LOCATION:Holy Trinity\, Ashton in Makerfield
URL:https://www.achurchnearyou.com/church/15322/service-and-events/events/
 1151262/
END:VEVENT
BEGIN:VEVENT
SUMMARY:Holy Communion
DTSTART;TZID=Europe/London:20261125T100000
DTEND;TZID=Europe/London:20261125T110000
DTSTAMP:20260421T171149Z
UID:11512622026-11-25 10:00:00+00:00achurchnearyou
CATEGORIES:
DESCRIPTION:A service from the Common Worship book including hymns\, praye
 rs and Bible readings and the sharing of bread and wine.
GEO:-2.66836;53.498962
LOCATION:Holy Trinity\, Ashton in Makerfield
URL:https://www.achurchnearyou.com/church/15322/service-and-events/events/
 1151262/
END:VEVENT
BEGIN:VEVENT
SUMMARY:Holy Communion
DTSTART;TZID=Europe/London:20261209T100000
DTEND;TZID=Europe/London:20261209T110000
DTSTAMP:20260421T171149Z
UID:11512622026-12-09 10:00:00+00:00achurchnearyou
CATEGORIES:
DESCRIPTION:A service from the Common Worship book including hymns\, praye
 rs and Bible readings and the sharing of bread and wine.
GEO:-2.66836;53.498962
LOCATION:Holy Trinity\, Ashton in Makerfield
URL:https://www.achurchnearyou.com/church/15322/service-and-events/events/
 1151262/
END:VEVENT
BEGIN:VEVENT
SUMMARY:Holy Communion
DTSTART;TZID=Europe/London:20261223T100000
DTEND;TZID=Europe/London:20261223T110000
DTSTAMP:20260421T171149Z
UID:11512622026-12-23 10:00:00+00:00achurchnearyou
CATEGORIES:
DESCRIPTION:A service from the Common Worship book including hymns\, praye
 rs and Bible readings and the sharing of bread and wine.
GEO:-2.66836;53.498962
LOCATION:Holy Trinity\, Ashton in Makerfield
URL:https://www.achurchnearyou.com/church/15322/service-and-events/events/
 1151262/
END:VEVENT
BEGIN:VEVENT
SUMMARY:Holy Communion
DTSTART;TZID=Europe/London:20270113T100000
DTEND;TZID=Europe/London:20270113T110000
DTSTAMP:20260421T171149Z
UID:11512622027-01-13 10:00:00+00:00achurchnearyou
CATEGORIES:
DESCRIPTION:A service from the Common Worship book including hymns\, praye
 rs and Bible readings and the sharing of bread and wine.
GEO:-2.66836;53.498962
LOCATION:Holy Trinity\, Ashton in Makerfield
URL:https://www.achurchnearyou.com/church/15322/service-and-events/events/
 1151262/
END:VEVENT
BEGIN:VEVENT
SUMMARY:Holy Communion
DTSTART;TZID=Europe/London:20270127T100000
DTEND;TZID=Europe/London:20270127T110000
DTSTAMP:20260421T171149Z
UID:11512622027-01-27 10:00:00+00:00achurchnearyou
CATEGORIES:
DESCRIPTION:A service from the Common Worship book including hymns\, praye
 rs and Bible readings and the sharing of bread and wine.
GEO:-2.66836;53.498962
LOCATION:Holy Trinity\, Ashton in Makerfield
URL:https://www.achurchnearyou.com/church/15322/service-and-events/events/
 1151262/
END:VEVENT
BEGIN:VEVENT
SUMMARY:Holy Communion
DTSTART;TZID=Europe/London:20270210T100000
DTEND;TZID=Europe/London:20270210T110000
DTSTAMP:20260421T171149Z
UID:11512622027-02-10 10:00:00+00:00achurchnearyou
CATEGORIES:
DESCRIPTION:A service from the Common Worship book including hymns\, praye
 rs and Bible readings and the sharing of bread and wine.
GEO:-2.66836;53.498962
LOCATION:Holy Trinity\, Ashton in Makerfield
URL:https://www.achurchnearyou.com/church/15322/service-and-events/events/
 1151262/
END:VEVENT
BEGIN:VEVENT
SUMMARY:Holy Communion
DTSTART;TZID=Europe/London:20270224T100000
DTEND;TZID=Europe/London:20270224T110000
DTSTAMP:20260421T171149Z
UID:11512622027-02-24 10:00:00+00:00achurchnearyou
CATEGORIES:
DESCRIPTION:A service from the Common Worship book including hymns\, praye
 rs and Bible readings and the sharing of bread and wine.
GEO:-2.66836;53.498962
LOCATION:Holy Trinity\, Ashton in Makerfield
URL:https://www.achurchnearyou.com/church/15322/service-and-events/events/
 1151262/
END:VEVENT
BEGIN:VEVENT
SUMMARY:Holy Communion
DTSTART;TZID=Europe/London:20270310T100000
DTEND;TZID=Europe/London:20270310T110000
DTSTAMP:20260421T171149Z
UID:11512622027-03-10 10:00:00+00:00achurchnearyou
CATEGORIES:
DESCRIPTION:A service from the Common Worship book including hymns\, praye
 rs and Bible readings and the sharing of bread and wine.
GEO:-2.66836;53.498962
LOCATION:Holy Trinity\, Ashton in Makerfield
URL:https://www.achurchnearyou.com/church/15322/service-and-events/events/
 1151262/
END:VEVENT
BEGIN:VEVENT
SUMMARY:Holy Communion
DTSTART;TZID=Europe/London:20270324T100000
DTEND;TZID=Europe/London:20270324T110000
DTSTAMP:20260421T171149Z
UID:11512622027-03-24 10:00:00+00:00achurchnearyou
CATEGORIES:
DESCRIPTION:A service from the Common Worship book including hymns\, praye
 rs and Bible readings and the sharing of bread and wine.
GEO:-2.66836;53.498962
LOCATION:Holy Trinity\, Ashton in Makerfield
URL:https://www.achurchnearyou.com/church/15322/service-and-events/events/
 1151262/
END:VEVENT
BEGIN:VEVENT
SUMMARY:Holy Communion
DTSTART;TZID=Europe/London:20270414T100000
DTEND;TZID=Europe/London:20270414T110000
DTSTAMP:20260421T171149Z
UID:11512622027-04-14 10:00:00+01:00achurchnearyou
CATEGORIES:
DESCRIPTION:A service from the Common Worship book including hymns\, praye
 rs and Bible readings and the sharing of bread and wine.
GEO:-2.66836;53.498962
LOCATION:Holy Trinity\, Ashton in Makerfield
URL:https://www.achurchnearyou.com/church/15322/service-and-events/events/
 1151262/
END:VEVENT
END:VCALENDAR
