BEGIN:VCALENDAR
VERSION:2.0
PRODID:-//achurchnearyou.com//eventfeed//EN
CALSCALE:GREGORIAN
METHOD:PUBLISH
X-WR-TIMEZONE:UTC
BEGIN:VEVENT
SUMMARY:Servicio de Nochebuena
DTSTART:20251224T180000Z
DTEND:20251224T190000Z
DTSTAMP:20260424T120519Z
UID:12749032025-12-24 18:00:00+00:00achurchnearyou
CATEGORIES:
DESCRIPTION:Estaremos celebrando un servicio navideño en español de 6:00
  a 7:00 p.m.\, un espacio creado para descansar del ruido de la ciudad. Ac
 ompáñanos en un tiempo especial de paz y reflexión para reconectarnos c
 on Dios y celebrar juntos la esperanza y el gozo de la Navidad.\n\nWe will
  be holding a Spanish-language Christmas service from 6:00–7:00 PM\, cre
 ated as a peaceful space to step away from the noise of the city. Join us 
 for a quiet\, meaningful time to rest\, reflect\, and reconnect with God a
 s we celebrate the hope and joy of Christmas together.
GEO:-0.07902;51.513455
LOCATION:The Guild Church for Workers at St Katharine Cree
URL:https://www.stkatharinecree.org/whats-on
END:VEVENT
END:VCALENDAR
