BEGIN:VCALENDAR
VERSION:2.0
PRODID:-//achurchnearyou.com//eventfeed//EN
CALSCALE:GREGORIAN
METHOD:PUBLISH
X-WR-TIMEZONE:UTC
BEGIN:VEVENT
SUMMARY:Harvest Festival
DTSTART:20251005T083000Z
DTEND:20251005T093000Z
DTSTAMP:20260423T235749Z
UID:12271932025-10-05 08:30:00+00:00achurchnearyou
CATEGORIES:
DESCRIPTION:Join us at each church to celebrate Harvest:\n5th October St. 
 Michael's 9.30am\n12th October St. Andrew's 11.00am
GEO:-0.540377;51.472372
LOCATION:St Michaels Church Horton
URL:https://www.achurchnearyou.com/church/154/service-and-events/events/12
 27193/
END:VEVENT
END:VCALENDAR
