BEGIN:VCALENDAR
VERSION:2.0
PRODID:-//achurchnearyou.com//eventfeed//EN
CALSCALE:GREGORIAN
METHOD:PUBLISH
X-WR-TIMEZONE:UTC
BEGIN:VEVENT
SUMMARY:Pancake Party
DTSTART:20260214T110000Z
DTEND:20260214T123000Z
DTSTAMP:20260423T132807Z
UID:12882702026-02-14 11:00:00+00:00achurchnearyou
CATEGORIES:
DESCRIPTION:On Saturday\, 14 February\, we shall be serving pancakes as pa
 rt of our usual Open Church event at St Andrew's. Please do come and join 
 us!
GEO:-0.115216;51.541003
LOCATION:St Andrew's\, Thornhill Square
URL:https://www.achurchnearyou.com/church/15420/service-and-events/events/
 1288270/
END:VEVENT
END:VCALENDAR
