BEGIN:VCALENDAR
VERSION:2.0
PRODID:-//achurchnearyou.com//eventfeed//EN
CALSCALE:GREGORIAN
METHOD:PUBLISH
X-WR-TIMEZONE:UTC
BEGIN:VEVENT
SUMMARY:Wednesday Night Youth
DTSTART;TZID=Europe/London:20260218T203000
DTEND;TZID=Europe/London:20260218T213000
DTSTAMP:20260425T010310Z
UID:12935182026-02-18 20:30:00+00:00achurchnearyou
CATEGORIES:
DESCRIPTION:If you are secondary school age then join us on the 1st and 3r
 d Wednesday of the month for fun\, games\, snacks\, chats and time to disc
 uss the bible and life's big questions
GEO:-0.130297;51.563823
LOCATION:St. John the Evangelist\, Upper Holloway
URL:https://sjuh.churchsuite.com/events/1ua6yytp
END:VEVENT
BEGIN:VEVENT
SUMMARY:Wednesday Night Youth
DTSTART;TZID=Europe/London:20260304T203000
DTEND;TZID=Europe/London:20260304T213000
DTSTAMP:20260425T010310Z
UID:12935182026-03-04 20:30:00+00:00achurchnearyou
CATEGORIES:
DESCRIPTION:If you are secondary school age then join us on the 1st and 3r
 d Wednesday of the month for fun\, games\, snacks\, chats and time to disc
 uss the bible and life's big questions
GEO:-0.130297;51.563823
LOCATION:St. John the Evangelist\, Upper Holloway
URL:https://sjuh.churchsuite.com/events/1ua6yytp
END:VEVENT
BEGIN:VEVENT
SUMMARY:Wednesday Night Youth
DTSTART;TZID=Europe/London:20260318T203000
DTEND;TZID=Europe/London:20260318T213000
DTSTAMP:20260425T010310Z
UID:12935182026-03-18 20:30:00+00:00achurchnearyou
CATEGORIES:
DESCRIPTION:If you are secondary school age then join us on the 1st and 3r
 d Wednesday of the month for fun\, games\, snacks\, chats and time to disc
 uss the bible and life's big questions
GEO:-0.130297;51.563823
LOCATION:St. John the Evangelist\, Upper Holloway
URL:https://sjuh.churchsuite.com/events/1ua6yytp
END:VEVENT
BEGIN:VEVENT
SUMMARY:Wednesday Night Youth
DTSTART;TZID=Europe/London:20260401T203000
DTEND;TZID=Europe/London:20260401T213000
DTSTAMP:20260425T010310Z
UID:12935182026-04-01 20:30:00+01:00achurchnearyou
CATEGORIES:
DESCRIPTION:If you are secondary school age then join us on the 1st and 3r
 d Wednesday of the month for fun\, games\, snacks\, chats and time to disc
 uss the bible and life's big questions
GEO:-0.130297;51.563823
LOCATION:St. John the Evangelist\, Upper Holloway
URL:https://sjuh.churchsuite.com/events/1ua6yytp
END:VEVENT
BEGIN:VEVENT
SUMMARY:Wednesday Night Youth
DTSTART;TZID=Europe/London:20260415T203000
DTEND;TZID=Europe/London:20260415T213000
DTSTAMP:20260425T010310Z
UID:12935182026-04-15 20:30:00+01:00achurchnearyou
CATEGORIES:
DESCRIPTION:If you are secondary school age then join us on the 1st and 3r
 d Wednesday of the month for fun\, games\, snacks\, chats and time to disc
 uss the bible and life's big questions
GEO:-0.130297;51.563823
LOCATION:St. John the Evangelist\, Upper Holloway
URL:https://sjuh.churchsuite.com/events/1ua6yytp
END:VEVENT
END:VCALENDAR
