BEGIN:VCALENDAR
VERSION:2.0
PRODID:-//achurchnearyou.com//eventfeed//EN
CALSCALE:GREGORIAN
METHOD:PUBLISH
X-WR-TIMEZONE:UTC
BEGIN:VEVENT
SUMMARY:Good Friday Service
DTSTART:20250418T093000Z
DTEND:20250418T103000Z
DTSTAMP:20260422T180406Z
UID:11928832025-04-18 09:30:00+00:00achurchnearyou
CATEGORIES:
DESCRIPTION:Join us for a service of readings\, prayer and devotions as we
  reflect on the crucifixion of Christ.
LOCATION:St Andrew's\, Thornhill Square
URL:https://www.achurchnearyou.com/church/15443/service-and-events/events/
 1192883/
END:VEVENT
END:VCALENDAR
