BEGIN:VCALENDAR
VERSION:2.0
PRODID:-//achurchnearyou.com//eventfeed//EN
CALSCALE:GREGORIAN
METHOD:PUBLISH
X-WR-TIMEZONE:UTC
BEGIN:VEVENT
SUMMARY:Wednesday in Holy Week | Evening Mass
DTSTART:20260401T180000Z
DTEND:20260401T190000Z
DTSTAMP:20260419T164704Z
UID:10540792026-04-01 18:00:00+00:00achurchnearyou
CATEGORIES:
DESCRIPTION:Join us for our spoken evening Mass on the Wednesday of Holy W
 eek.
GEO:-0.039997;51.531134
LOCATION:St Barnabas Bethnal Green
URL:https://www.achurchnearyou.com/church/15445/service-and-events/events/
 1054079/
END:VEVENT
END:VCALENDAR
