BEGIN:VCALENDAR
VERSION:2.0
PRODID:-//achurchnearyou.com//eventfeed//EN
CALSCALE:GREGORIAN
METHOD:PUBLISH
X-WR-TIMEZONE:UTC
BEGIN:VEVENT
SUMMARY:Carol singing at The Victoria
DTSTART:20251216T180000Z
DTEND:20251216T190000Z
DTSTAMP:20260420T014646Z
UID:12439392025-12-16 18:00:00+00:00achurchnearyou
CATEGORIES:
DESCRIPTION:Join our choir for carols at The Victoria
LOCATION:The Victoria
URL:https://www.achurchnearyou.com/church/15445/service-and-events/events/
 1243939/
END:VEVENT
END:VCALENDAR
