BEGIN:VCALENDAR
VERSION:2.0
PRODID:-//achurchnearyou.com//eventfeed//EN
CALSCALE:GREGORIAN
METHOD:PUBLISH
X-WR-TIMEZONE:UTC
BEGIN:VEVENT
SUMMARY:ASH WEDNESDAY SERVICE
DTSTART:20260218T120000Z
DTEND:20260218T130000Z
DTSTAMP:20260422T162505Z
UID:12875702026-02-18 12:00:00+00:00achurchnearyou
CATEGORIES:
DESCRIPTION:Service of Worship with Ashing
GEO:-0.03255;51.533122
LOCATION:St Paul Old Ford
URL:https://www.achurchnearyou.com/church/15450/service-and-events/events/
 1287570/
END:VEVENT
END:VCALENDAR
