BEGIN:VCALENDAR
VERSION:2.0
PRODID:-//achurchnearyou.com//eventfeed//EN
CALSCALE:GREGORIAN
METHOD:PUBLISH
X-WR-TIMEZONE:UTC
BEGIN:VEVENT
SUMMARY:Youth Group
DTSTART;TZID=Europe/London:20260423T180000
DTEND;TZID=Europe/London:20260423T194500
DTSTAMP:20260422T215908Z
UID:11960192026-04-23 18:00:00+01:00achurchnearyou
CATEGORIES:
DESCRIPTION:Youth group is for secondary school aged children. We eat dinn
 er together\, listen to Bible talk\, and play a big game at the end.\n\nPl
 ease email office@standrewschelsea.org for more information.
LOCATION:St John's Church
URL:https://www.standrewschelsea.org/children-and-youth
END:VEVENT
BEGIN:VEVENT
SUMMARY:Youth Group
DTSTART;TZID=Europe/London:20260430T180000
DTEND;TZID=Europe/London:20260430T194500
DTSTAMP:20260422T215908Z
UID:11960192026-04-30 18:00:00+01:00achurchnearyou
CATEGORIES:
DESCRIPTION:Youth group is for secondary school aged children. We eat dinn
 er together\, listen to Bible talk\, and play a big game at the end.\n\nPl
 ease email office@standrewschelsea.org for more information.
LOCATION:St John's Church
URL:https://www.standrewschelsea.org/children-and-youth
END:VEVENT
BEGIN:VEVENT
SUMMARY:Youth Group
DTSTART;TZID=Europe/London:20260507T180000
DTEND;TZID=Europe/London:20260507T194500
DTSTAMP:20260422T215908Z
UID:11960192026-05-07 18:00:00+01:00achurchnearyou
CATEGORIES:
DESCRIPTION:Youth group is for secondary school aged children. We eat dinn
 er together\, listen to Bible talk\, and play a big game at the end.\n\nPl
 ease email office@standrewschelsea.org for more information.
LOCATION:St John's Church
URL:https://www.standrewschelsea.org/children-and-youth
END:VEVENT
BEGIN:VEVENT
SUMMARY:Youth Group
DTSTART;TZID=Europe/London:20260514T180000
DTEND;TZID=Europe/London:20260514T194500
DTSTAMP:20260422T215908Z
UID:11960192026-05-14 18:00:00+01:00achurchnearyou
CATEGORIES:
DESCRIPTION:Youth group is for secondary school aged children. We eat dinn
 er together\, listen to Bible talk\, and play a big game at the end.\n\nPl
 ease email office@standrewschelsea.org for more information.
LOCATION:St John's Church
URL:https://www.standrewschelsea.org/children-and-youth
END:VEVENT
BEGIN:VEVENT
SUMMARY:Youth Group
DTSTART;TZID=Europe/London:20260521T180000
DTEND;TZID=Europe/London:20260521T194500
DTSTAMP:20260422T215908Z
UID:11960192026-05-21 18:00:00+01:00achurchnearyou
CATEGORIES:
DESCRIPTION:Youth group is for secondary school aged children. We eat dinn
 er together\, listen to Bible talk\, and play a big game at the end.\n\nPl
 ease email office@standrewschelsea.org for more information.
LOCATION:St John's Church
URL:https://www.standrewschelsea.org/children-and-youth
END:VEVENT
BEGIN:VEVENT
SUMMARY:Youth Group
DTSTART;TZID=Europe/London:20260528T180000
DTEND;TZID=Europe/London:20260528T194500
DTSTAMP:20260422T215908Z
UID:11960192026-05-28 18:00:00+01:00achurchnearyou
CATEGORIES:
DESCRIPTION:Youth group is for secondary school aged children. We eat dinn
 er together\, listen to Bible talk\, and play a big game at the end.\n\nPl
 ease email office@standrewschelsea.org for more information.
LOCATION:St John's Church
URL:https://www.standrewschelsea.org/children-and-youth
END:VEVENT
BEGIN:VEVENT
SUMMARY:Youth Group
DTSTART;TZID=Europe/London:20260604T180000
DTEND;TZID=Europe/London:20260604T194500
DTSTAMP:20260422T215908Z
UID:11960192026-06-04 18:00:00+01:00achurchnearyou
CATEGORIES:
DESCRIPTION:Youth group is for secondary school aged children. We eat dinn
 er together\, listen to Bible talk\, and play a big game at the end.\n\nPl
 ease email office@standrewschelsea.org for more information.
LOCATION:St John's Church
URL:https://www.standrewschelsea.org/children-and-youth
END:VEVENT
BEGIN:VEVENT
SUMMARY:Youth Group
DTSTART;TZID=Europe/London:20260611T180000
DTEND;TZID=Europe/London:20260611T194500
DTSTAMP:20260422T215908Z
UID:11960192026-06-11 18:00:00+01:00achurchnearyou
CATEGORIES:
DESCRIPTION:Youth group is for secondary school aged children. We eat dinn
 er together\, listen to Bible talk\, and play a big game at the end.\n\nPl
 ease email office@standrewschelsea.org for more information.
LOCATION:St John's Church
URL:https://www.standrewschelsea.org/children-and-youth
END:VEVENT
BEGIN:VEVENT
SUMMARY:Youth Group
DTSTART;TZID=Europe/London:20260618T180000
DTEND;TZID=Europe/London:20260618T194500
DTSTAMP:20260422T215908Z
UID:11960192026-06-18 18:00:00+01:00achurchnearyou
CATEGORIES:
DESCRIPTION:Youth group is for secondary school aged children. We eat dinn
 er together\, listen to Bible talk\, and play a big game at the end.\n\nPl
 ease email office@standrewschelsea.org for more information.
LOCATION:St John's Church
URL:https://www.standrewschelsea.org/children-and-youth
END:VEVENT
BEGIN:VEVENT
SUMMARY:Youth Group
DTSTART;TZID=Europe/London:20260625T180000
DTEND;TZID=Europe/London:20260625T194500
DTSTAMP:20260422T215908Z
UID:11960192026-06-25 18:00:00+01:00achurchnearyou
CATEGORIES:
DESCRIPTION:Youth group is for secondary school aged children. We eat dinn
 er together\, listen to Bible talk\, and play a big game at the end.\n\nPl
 ease email office@standrewschelsea.org for more information.
LOCATION:St John's Church
URL:https://www.standrewschelsea.org/children-and-youth
END:VEVENT
BEGIN:VEVENT
SUMMARY:Youth Group
DTSTART;TZID=Europe/London:20260702T180000
DTEND;TZID=Europe/London:20260702T194500
DTSTAMP:20260422T215908Z
UID:11960192026-07-02 18:00:00+01:00achurchnearyou
CATEGORIES:
DESCRIPTION:Youth group is for secondary school aged children. We eat dinn
 er together\, listen to Bible talk\, and play a big game at the end.\n\nPl
 ease email office@standrewschelsea.org for more information.
LOCATION:St John's Church
URL:https://www.standrewschelsea.org/children-and-youth
END:VEVENT
BEGIN:VEVENT
SUMMARY:Youth Group
DTSTART;TZID=Europe/London:20260709T180000
DTEND;TZID=Europe/London:20260709T194500
DTSTAMP:20260422T215908Z
UID:11960192026-07-09 18:00:00+01:00achurchnearyou
CATEGORIES:
DESCRIPTION:Youth group is for secondary school aged children. We eat dinn
 er together\, listen to Bible talk\, and play a big game at the end.\n\nPl
 ease email office@standrewschelsea.org for more information.
LOCATION:St John's Church
URL:https://www.standrewschelsea.org/children-and-youth
END:VEVENT
BEGIN:VEVENT
SUMMARY:Youth Group
DTSTART;TZID=Europe/London:20260716T180000
DTEND;TZID=Europe/London:20260716T194500
DTSTAMP:20260422T215908Z
UID:11960192026-07-16 18:00:00+01:00achurchnearyou
CATEGORIES:
DESCRIPTION:Youth group is for secondary school aged children. We eat dinn
 er together\, listen to Bible talk\, and play a big game at the end.\n\nPl
 ease email office@standrewschelsea.org for more information.
LOCATION:St John's Church
URL:https://www.standrewschelsea.org/children-and-youth
END:VEVENT
BEGIN:VEVENT
SUMMARY:Youth Group
DTSTART;TZID=Europe/London:20260723T180000
DTEND;TZID=Europe/London:20260723T194500
DTSTAMP:20260422T215908Z
UID:11960192026-07-23 18:00:00+01:00achurchnearyou
CATEGORIES:
DESCRIPTION:Youth group is for secondary school aged children. We eat dinn
 er together\, listen to Bible talk\, and play a big game at the end.\n\nPl
 ease email office@standrewschelsea.org for more information.
LOCATION:St John's Church
URL:https://www.standrewschelsea.org/children-and-youth
END:VEVENT
BEGIN:VEVENT
SUMMARY:Youth Group
DTSTART;TZID=Europe/London:20260730T180000
DTEND;TZID=Europe/London:20260730T194500
DTSTAMP:20260422T215908Z
UID:11960192026-07-30 18:00:00+01:00achurchnearyou
CATEGORIES:
DESCRIPTION:Youth group is for secondary school aged children. We eat dinn
 er together\, listen to Bible talk\, and play a big game at the end.\n\nPl
 ease email office@standrewschelsea.org for more information.
LOCATION:St John's Church
URL:https://www.standrewschelsea.org/children-and-youth
END:VEVENT
BEGIN:VEVENT
SUMMARY:Youth Group
DTSTART;TZID=Europe/London:20260806T180000
DTEND;TZID=Europe/London:20260806T194500
DTSTAMP:20260422T215908Z
UID:11960192026-08-06 18:00:00+01:00achurchnearyou
CATEGORIES:
DESCRIPTION:Youth group is for secondary school aged children. We eat dinn
 er together\, listen to Bible talk\, and play a big game at the end.\n\nPl
 ease email office@standrewschelsea.org for more information.
LOCATION:St John's Church
URL:https://www.standrewschelsea.org/children-and-youth
END:VEVENT
BEGIN:VEVENT
SUMMARY:Youth Group
DTSTART;TZID=Europe/London:20260813T180000
DTEND;TZID=Europe/London:20260813T194500
DTSTAMP:20260422T215908Z
UID:11960192026-08-13 18:00:00+01:00achurchnearyou
CATEGORIES:
DESCRIPTION:Youth group is for secondary school aged children. We eat dinn
 er together\, listen to Bible talk\, and play a big game at the end.\n\nPl
 ease email office@standrewschelsea.org for more information.
LOCATION:St John's Church
URL:https://www.standrewschelsea.org/children-and-youth
END:VEVENT
BEGIN:VEVENT
SUMMARY:Youth Group
DTSTART;TZID=Europe/London:20260820T180000
DTEND;TZID=Europe/London:20260820T194500
DTSTAMP:20260422T215908Z
UID:11960192026-08-20 18:00:00+01:00achurchnearyou
CATEGORIES:
DESCRIPTION:Youth group is for secondary school aged children. We eat dinn
 er together\, listen to Bible talk\, and play a big game at the end.\n\nPl
 ease email office@standrewschelsea.org for more information.
LOCATION:St John's Church
URL:https://www.standrewschelsea.org/children-and-youth
END:VEVENT
BEGIN:VEVENT
SUMMARY:Youth Group
DTSTART;TZID=Europe/London:20260827T180000
DTEND;TZID=Europe/London:20260827T194500
DTSTAMP:20260422T215908Z
UID:11960192026-08-27 18:00:00+01:00achurchnearyou
CATEGORIES:
DESCRIPTION:Youth group is for secondary school aged children. We eat dinn
 er together\, listen to Bible talk\, and play a big game at the end.\n\nPl
 ease email office@standrewschelsea.org for more information.
LOCATION:St John's Church
URL:https://www.standrewschelsea.org/children-and-youth
END:VEVENT
BEGIN:VEVENT
SUMMARY:Youth Group
DTSTART;TZID=Europe/London:20260903T180000
DTEND;TZID=Europe/London:20260903T194500
DTSTAMP:20260422T215908Z
UID:11960192026-09-03 18:00:00+01:00achurchnearyou
CATEGORIES:
DESCRIPTION:Youth group is for secondary school aged children. We eat dinn
 er together\, listen to Bible talk\, and play a big game at the end.\n\nPl
 ease email office@standrewschelsea.org for more information.
LOCATION:St John's Church
URL:https://www.standrewschelsea.org/children-and-youth
END:VEVENT
BEGIN:VEVENT
SUMMARY:Youth Group
DTSTART;TZID=Europe/London:20260910T180000
DTEND;TZID=Europe/London:20260910T194500
DTSTAMP:20260422T215908Z
UID:11960192026-09-10 18:00:00+01:00achurchnearyou
CATEGORIES:
DESCRIPTION:Youth group is for secondary school aged children. We eat dinn
 er together\, listen to Bible talk\, and play a big game at the end.\n\nPl
 ease email office@standrewschelsea.org for more information.
LOCATION:St John's Church
URL:https://www.standrewschelsea.org/children-and-youth
END:VEVENT
BEGIN:VEVENT
SUMMARY:Youth Group
DTSTART;TZID=Europe/London:20260917T180000
DTEND;TZID=Europe/London:20260917T194500
DTSTAMP:20260422T215908Z
UID:11960192026-09-17 18:00:00+01:00achurchnearyou
CATEGORIES:
DESCRIPTION:Youth group is for secondary school aged children. We eat dinn
 er together\, listen to Bible talk\, and play a big game at the end.\n\nPl
 ease email office@standrewschelsea.org for more information.
LOCATION:St John's Church
URL:https://www.standrewschelsea.org/children-and-youth
END:VEVENT
BEGIN:VEVENT
SUMMARY:Youth Group
DTSTART;TZID=Europe/London:20260924T180000
DTEND;TZID=Europe/London:20260924T194500
DTSTAMP:20260422T215908Z
UID:11960192026-09-24 18:00:00+01:00achurchnearyou
CATEGORIES:
DESCRIPTION:Youth group is for secondary school aged children. We eat dinn
 er together\, listen to Bible talk\, and play a big game at the end.\n\nPl
 ease email office@standrewschelsea.org for more information.
LOCATION:St John's Church
URL:https://www.standrewschelsea.org/children-and-youth
END:VEVENT
BEGIN:VEVENT
SUMMARY:Youth Group
DTSTART;TZID=Europe/London:20261001T180000
DTEND;TZID=Europe/London:20261001T194500
DTSTAMP:20260422T215908Z
UID:11960192026-10-01 18:00:00+01:00achurchnearyou
CATEGORIES:
DESCRIPTION:Youth group is for secondary school aged children. We eat dinn
 er together\, listen to Bible talk\, and play a big game at the end.\n\nPl
 ease email office@standrewschelsea.org for more information.
LOCATION:St John's Church
URL:https://www.standrewschelsea.org/children-and-youth
END:VEVENT
BEGIN:VEVENT
SUMMARY:Youth Group
DTSTART;TZID=Europe/London:20261008T180000
DTEND;TZID=Europe/London:20261008T194500
DTSTAMP:20260422T215908Z
UID:11960192026-10-08 18:00:00+01:00achurchnearyou
CATEGORIES:
DESCRIPTION:Youth group is for secondary school aged children. We eat dinn
 er together\, listen to Bible talk\, and play a big game at the end.\n\nPl
 ease email office@standrewschelsea.org for more information.
LOCATION:St John's Church
URL:https://www.standrewschelsea.org/children-and-youth
END:VEVENT
BEGIN:VEVENT
SUMMARY:Youth Group
DTSTART;TZID=Europe/London:20261015T180000
DTEND;TZID=Europe/London:20261015T194500
DTSTAMP:20260422T215908Z
UID:11960192026-10-15 18:00:00+01:00achurchnearyou
CATEGORIES:
DESCRIPTION:Youth group is for secondary school aged children. We eat dinn
 er together\, listen to Bible talk\, and play a big game at the end.\n\nPl
 ease email office@standrewschelsea.org for more information.
LOCATION:St John's Church
URL:https://www.standrewschelsea.org/children-and-youth
END:VEVENT
BEGIN:VEVENT
SUMMARY:Youth Group
DTSTART;TZID=Europe/London:20261022T180000
DTEND;TZID=Europe/London:20261022T194500
DTSTAMP:20260422T215908Z
UID:11960192026-10-22 18:00:00+01:00achurchnearyou
CATEGORIES:
DESCRIPTION:Youth group is for secondary school aged children. We eat dinn
 er together\, listen to Bible talk\, and play a big game at the end.\n\nPl
 ease email office@standrewschelsea.org for more information.
LOCATION:St John's Church
URL:https://www.standrewschelsea.org/children-and-youth
END:VEVENT
BEGIN:VEVENT
SUMMARY:Youth Group
DTSTART;TZID=Europe/London:20261029T180000
DTEND;TZID=Europe/London:20261029T194500
DTSTAMP:20260422T215908Z
UID:11960192026-10-29 18:00:00+00:00achurchnearyou
CATEGORIES:
DESCRIPTION:Youth group is for secondary school aged children. We eat dinn
 er together\, listen to Bible talk\, and play a big game at the end.\n\nPl
 ease email office@standrewschelsea.org for more information.
LOCATION:St John's Church
URL:https://www.standrewschelsea.org/children-and-youth
END:VEVENT
BEGIN:VEVENT
SUMMARY:Youth Group
DTSTART;TZID=Europe/London:20261105T180000
DTEND;TZID=Europe/London:20261105T194500
DTSTAMP:20260422T215908Z
UID:11960192026-11-05 18:00:00+00:00achurchnearyou
CATEGORIES:
DESCRIPTION:Youth group is for secondary school aged children. We eat dinn
 er together\, listen to Bible talk\, and play a big game at the end.\n\nPl
 ease email office@standrewschelsea.org for more information.
LOCATION:St John's Church
URL:https://www.standrewschelsea.org/children-and-youth
END:VEVENT
BEGIN:VEVENT
SUMMARY:Youth Group
DTSTART;TZID=Europe/London:20261112T180000
DTEND;TZID=Europe/London:20261112T194500
DTSTAMP:20260422T215908Z
UID:11960192026-11-12 18:00:00+00:00achurchnearyou
CATEGORIES:
DESCRIPTION:Youth group is for secondary school aged children. We eat dinn
 er together\, listen to Bible talk\, and play a big game at the end.\n\nPl
 ease email office@standrewschelsea.org for more information.
LOCATION:St John's Church
URL:https://www.standrewschelsea.org/children-and-youth
END:VEVENT
BEGIN:VEVENT
SUMMARY:Youth Group
DTSTART;TZID=Europe/London:20261119T180000
DTEND;TZID=Europe/London:20261119T194500
DTSTAMP:20260422T215908Z
UID:11960192026-11-19 18:00:00+00:00achurchnearyou
CATEGORIES:
DESCRIPTION:Youth group is for secondary school aged children. We eat dinn
 er together\, listen to Bible talk\, and play a big game at the end.\n\nPl
 ease email office@standrewschelsea.org for more information.
LOCATION:St John's Church
URL:https://www.standrewschelsea.org/children-and-youth
END:VEVENT
BEGIN:VEVENT
SUMMARY:Youth Group
DTSTART;TZID=Europe/London:20261126T180000
DTEND;TZID=Europe/London:20261126T194500
DTSTAMP:20260422T215908Z
UID:11960192026-11-26 18:00:00+00:00achurchnearyou
CATEGORIES:
DESCRIPTION:Youth group is for secondary school aged children. We eat dinn
 er together\, listen to Bible talk\, and play a big game at the end.\n\nPl
 ease email office@standrewschelsea.org for more information.
LOCATION:St John's Church
URL:https://www.standrewschelsea.org/children-and-youth
END:VEVENT
BEGIN:VEVENT
SUMMARY:Youth Group
DTSTART;TZID=Europe/London:20261203T180000
DTEND;TZID=Europe/London:20261203T194500
DTSTAMP:20260422T215908Z
UID:11960192026-12-03 18:00:00+00:00achurchnearyou
CATEGORIES:
DESCRIPTION:Youth group is for secondary school aged children. We eat dinn
 er together\, listen to Bible talk\, and play a big game at the end.\n\nPl
 ease email office@standrewschelsea.org for more information.
LOCATION:St John's Church
URL:https://www.standrewschelsea.org/children-and-youth
END:VEVENT
BEGIN:VEVENT
SUMMARY:Youth Group
DTSTART;TZID=Europe/London:20261210T180000
DTEND;TZID=Europe/London:20261210T194500
DTSTAMP:20260422T215908Z
UID:11960192026-12-10 18:00:00+00:00achurchnearyou
CATEGORIES:
DESCRIPTION:Youth group is for secondary school aged children. We eat dinn
 er together\, listen to Bible talk\, and play a big game at the end.\n\nPl
 ease email office@standrewschelsea.org for more information.
LOCATION:St John's Church
URL:https://www.standrewschelsea.org/children-and-youth
END:VEVENT
BEGIN:VEVENT
SUMMARY:Youth Group
DTSTART;TZID=Europe/London:20261217T180000
DTEND;TZID=Europe/London:20261217T194500
DTSTAMP:20260422T215908Z
UID:11960192026-12-17 18:00:00+00:00achurchnearyou
CATEGORIES:
DESCRIPTION:Youth group is for secondary school aged children. We eat dinn
 er together\, listen to Bible talk\, and play a big game at the end.\n\nPl
 ease email office@standrewschelsea.org for more information.
LOCATION:St John's Church
URL:https://www.standrewschelsea.org/children-and-youth
END:VEVENT
BEGIN:VEVENT
SUMMARY:Youth Group
DTSTART;TZID=Europe/London:20261224T180000
DTEND;TZID=Europe/London:20261224T194500
DTSTAMP:20260422T215908Z
UID:11960192026-12-24 18:00:00+00:00achurchnearyou
CATEGORIES:
DESCRIPTION:Youth group is for secondary school aged children. We eat dinn
 er together\, listen to Bible talk\, and play a big game at the end.\n\nPl
 ease email office@standrewschelsea.org for more information.
LOCATION:St John's Church
URL:https://www.standrewschelsea.org/children-and-youth
END:VEVENT
BEGIN:VEVENT
SUMMARY:Youth Group
DTSTART;TZID=Europe/London:20261231T180000
DTEND;TZID=Europe/London:20261231T194500
DTSTAMP:20260422T215908Z
UID:11960192026-12-31 18:00:00+00:00achurchnearyou
CATEGORIES:
DESCRIPTION:Youth group is for secondary school aged children. We eat dinn
 er together\, listen to Bible talk\, and play a big game at the end.\n\nPl
 ease email office@standrewschelsea.org for more information.
LOCATION:St John's Church
URL:https://www.standrewschelsea.org/children-and-youth
END:VEVENT
BEGIN:VEVENT
SUMMARY:Youth Group
DTSTART;TZID=Europe/London:20270107T180000
DTEND;TZID=Europe/London:20270107T194500
DTSTAMP:20260422T215908Z
UID:11960192027-01-07 18:00:00+00:00achurchnearyou
CATEGORIES:
DESCRIPTION:Youth group is for secondary school aged children. We eat dinn
 er together\, listen to Bible talk\, and play a big game at the end.\n\nPl
 ease email office@standrewschelsea.org for more information.
LOCATION:St John's Church
URL:https://www.standrewschelsea.org/children-and-youth
END:VEVENT
BEGIN:VEVENT
SUMMARY:Youth Group
DTSTART;TZID=Europe/London:20270114T180000
DTEND;TZID=Europe/London:20270114T194500
DTSTAMP:20260422T215908Z
UID:11960192027-01-14 18:00:00+00:00achurchnearyou
CATEGORIES:
DESCRIPTION:Youth group is for secondary school aged children. We eat dinn
 er together\, listen to Bible talk\, and play a big game at the end.\n\nPl
 ease email office@standrewschelsea.org for more information.
LOCATION:St John's Church
URL:https://www.standrewschelsea.org/children-and-youth
END:VEVENT
BEGIN:VEVENT
SUMMARY:Youth Group
DTSTART;TZID=Europe/London:20270121T180000
DTEND;TZID=Europe/London:20270121T194500
DTSTAMP:20260422T215908Z
UID:11960192027-01-21 18:00:00+00:00achurchnearyou
CATEGORIES:
DESCRIPTION:Youth group is for secondary school aged children. We eat dinn
 er together\, listen to Bible talk\, and play a big game at the end.\n\nPl
 ease email office@standrewschelsea.org for more information.
LOCATION:St John's Church
URL:https://www.standrewschelsea.org/children-and-youth
END:VEVENT
BEGIN:VEVENT
SUMMARY:Youth Group
DTSTART;TZID=Europe/London:20270128T180000
DTEND;TZID=Europe/London:20270128T194500
DTSTAMP:20260422T215908Z
UID:11960192027-01-28 18:00:00+00:00achurchnearyou
CATEGORIES:
DESCRIPTION:Youth group is for secondary school aged children. We eat dinn
 er together\, listen to Bible talk\, and play a big game at the end.\n\nPl
 ease email office@standrewschelsea.org for more information.
LOCATION:St John's Church
URL:https://www.standrewschelsea.org/children-and-youth
END:VEVENT
BEGIN:VEVENT
SUMMARY:Youth Group
DTSTART;TZID=Europe/London:20270204T180000
DTEND;TZID=Europe/London:20270204T194500
DTSTAMP:20260422T215908Z
UID:11960192027-02-04 18:00:00+00:00achurchnearyou
CATEGORIES:
DESCRIPTION:Youth group is for secondary school aged children. We eat dinn
 er together\, listen to Bible talk\, and play a big game at the end.\n\nPl
 ease email office@standrewschelsea.org for more information.
LOCATION:St John's Church
URL:https://www.standrewschelsea.org/children-and-youth
END:VEVENT
BEGIN:VEVENT
SUMMARY:Youth Group
DTSTART;TZID=Europe/London:20270211T180000
DTEND;TZID=Europe/London:20270211T194500
DTSTAMP:20260422T215908Z
UID:11960192027-02-11 18:00:00+00:00achurchnearyou
CATEGORIES:
DESCRIPTION:Youth group is for secondary school aged children. We eat dinn
 er together\, listen to Bible talk\, and play a big game at the end.\n\nPl
 ease email office@standrewschelsea.org for more information.
LOCATION:St John's Church
URL:https://www.standrewschelsea.org/children-and-youth
END:VEVENT
BEGIN:VEVENT
SUMMARY:Youth Group
DTSTART;TZID=Europe/London:20270218T180000
DTEND;TZID=Europe/London:20270218T194500
DTSTAMP:20260422T215908Z
UID:11960192027-02-18 18:00:00+00:00achurchnearyou
CATEGORIES:
DESCRIPTION:Youth group is for secondary school aged children. We eat dinn
 er together\, listen to Bible talk\, and play a big game at the end.\n\nPl
 ease email office@standrewschelsea.org for more information.
LOCATION:St John's Church
URL:https://www.standrewschelsea.org/children-and-youth
END:VEVENT
BEGIN:VEVENT
SUMMARY:Youth Group
DTSTART;TZID=Europe/London:20270225T180000
DTEND;TZID=Europe/London:20270225T194500
DTSTAMP:20260422T215908Z
UID:11960192027-02-25 18:00:00+00:00achurchnearyou
CATEGORIES:
DESCRIPTION:Youth group is for secondary school aged children. We eat dinn
 er together\, listen to Bible talk\, and play a big game at the end.\n\nPl
 ease email office@standrewschelsea.org for more information.
LOCATION:St John's Church
URL:https://www.standrewschelsea.org/children-and-youth
END:VEVENT
BEGIN:VEVENT
SUMMARY:Youth Group
DTSTART;TZID=Europe/London:20270304T180000
DTEND;TZID=Europe/London:20270304T194500
DTSTAMP:20260422T215908Z
UID:11960192027-03-04 18:00:00+00:00achurchnearyou
CATEGORIES:
DESCRIPTION:Youth group is for secondary school aged children. We eat dinn
 er together\, listen to Bible talk\, and play a big game at the end.\n\nPl
 ease email office@standrewschelsea.org for more information.
LOCATION:St John's Church
URL:https://www.standrewschelsea.org/children-and-youth
END:VEVENT
BEGIN:VEVENT
SUMMARY:Youth Group
DTSTART;TZID=Europe/London:20270311T180000
DTEND;TZID=Europe/London:20270311T194500
DTSTAMP:20260422T215908Z
UID:11960192027-03-11 18:00:00+00:00achurchnearyou
CATEGORIES:
DESCRIPTION:Youth group is for secondary school aged children. We eat dinn
 er together\, listen to Bible talk\, and play a big game at the end.\n\nPl
 ease email office@standrewschelsea.org for more information.
LOCATION:St John's Church
URL:https://www.standrewschelsea.org/children-and-youth
END:VEVENT
BEGIN:VEVENT
SUMMARY:Youth Group
DTSTART;TZID=Europe/London:20270318T180000
DTEND;TZID=Europe/London:20270318T194500
DTSTAMP:20260422T215908Z
UID:11960192027-03-18 18:00:00+00:00achurchnearyou
CATEGORIES:
DESCRIPTION:Youth group is for secondary school aged children. We eat dinn
 er together\, listen to Bible talk\, and play a big game at the end.\n\nPl
 ease email office@standrewschelsea.org for more information.
LOCATION:St John's Church
URL:https://www.standrewschelsea.org/children-and-youth
END:VEVENT
BEGIN:VEVENT
SUMMARY:Youth Group
DTSTART;TZID=Europe/London:20270325T180000
DTEND;TZID=Europe/London:20270325T194500
DTSTAMP:20260422T215908Z
UID:11960192027-03-25 18:00:00+00:00achurchnearyou
CATEGORIES:
DESCRIPTION:Youth group is for secondary school aged children. We eat dinn
 er together\, listen to Bible talk\, and play a big game at the end.\n\nPl
 ease email office@standrewschelsea.org for more information.
LOCATION:St John's Church
URL:https://www.standrewschelsea.org/children-and-youth
END:VEVENT
BEGIN:VEVENT
SUMMARY:Youth Group
DTSTART;TZID=Europe/London:20270401T180000
DTEND;TZID=Europe/London:20270401T194500
DTSTAMP:20260422T215908Z
UID:11960192027-04-01 18:00:00+01:00achurchnearyou
CATEGORIES:
DESCRIPTION:Youth group is for secondary school aged children. We eat dinn
 er together\, listen to Bible talk\, and play a big game at the end.\n\nPl
 ease email office@standrewschelsea.org for more information.
LOCATION:St John's Church
URL:https://www.standrewschelsea.org/children-and-youth
END:VEVENT
BEGIN:VEVENT
SUMMARY:Youth Group
DTSTART;TZID=Europe/London:20270408T180000
DTEND;TZID=Europe/London:20270408T194500
DTSTAMP:20260422T215908Z
UID:11960192027-04-08 18:00:00+01:00achurchnearyou
CATEGORIES:
DESCRIPTION:Youth group is for secondary school aged children. We eat dinn
 er together\, listen to Bible talk\, and play a big game at the end.\n\nPl
 ease email office@standrewschelsea.org for more information.
LOCATION:St John's Church
URL:https://www.standrewschelsea.org/children-and-youth
END:VEVENT
BEGIN:VEVENT
SUMMARY:Youth Group
DTSTART;TZID=Europe/London:20270415T180000
DTEND;TZID=Europe/London:20270415T194500
DTSTAMP:20260422T215908Z
UID:11960192027-04-15 18:00:00+01:00achurchnearyou
CATEGORIES:
DESCRIPTION:Youth group is for secondary school aged children. We eat dinn
 er together\, listen to Bible talk\, and play a big game at the end.\n\nPl
 ease email office@standrewschelsea.org for more information.
LOCATION:St John's Church
URL:https://www.standrewschelsea.org/children-and-youth
END:VEVENT
BEGIN:VEVENT
SUMMARY:Youth Group
DTSTART;TZID=Europe/London:20270422T180000
DTEND;TZID=Europe/London:20270422T194500
DTSTAMP:20260422T215908Z
UID:11960192027-04-22 18:00:00+01:00achurchnearyou
CATEGORIES:
DESCRIPTION:Youth group is for secondary school aged children. We eat dinn
 er together\, listen to Bible talk\, and play a big game at the end.\n\nPl
 ease email office@standrewschelsea.org for more information.
LOCATION:St John's Church
URL:https://www.standrewschelsea.org/children-and-youth
END:VEVENT
END:VCALENDAR
