BEGIN:VCALENDAR
VERSION:2.0
PRODID:-//achurchnearyou.com//eventfeed//EN
CALSCALE:GREGORIAN
METHOD:PUBLISH
X-WR-TIMEZONE:UTC
BEGIN:VEVENT
SUMMARY:Easter Sunday Dawn Vigil & Paschal Eucharist
DTSTART:20260405T050000Z
DTEND:20260405T063000Z
DTSTAMP:20260423T132728Z
UID:11892092026-04-05 05:00:00+00:00achurchnearyou
CATEGORIES:
DESCRIPTION:Easter Sunday Dawn Vigil & Paschal Eucharist
GEO:-0.325341;51.428579
LOCATION:St. Mary with St. Alban
URL:https://www.achurchnearyou.com/church/15499/service-and-events/events/
 1189209/
END:VEVENT
END:VCALENDAR
