BEGIN:VCALENDAR
VERSION:2.0
PRODID:-//achurchnearyou.com//eventfeed//EN
CALSCALE:GREGORIAN
METHOD:PUBLISH
X-WR-TIMEZONE:UTC
BEGIN:VEVENT
SUMMARY:Choral Evensong
DTSTART;TZID=Europe/London:20260517T183000
DTEND;TZID=Europe/London:20260517T193000
DTSTAMP:20260423T091218Z
UID:12222882026-05-17 18:30:00+01:00achurchnearyou
CATEGORIES:
DESCRIPTION:A contemplative\, sung Anglican service of Evening Prayer with
  beautiful music\, providing a moment of calm at the end of a day.
GEO:-0.325341;51.428579
LOCATION:St. Mary with St. Alban
URL:https://www.teddingtonparish.org/about-us/services/
END:VEVENT
BEGIN:VEVENT
SUMMARY:Choral Evensong
DTSTART;TZID=Europe/London:20260621T183000
DTEND;TZID=Europe/London:20260621T193000
DTSTAMP:20260423T091218Z
UID:12222882026-06-21 18:30:00+01:00achurchnearyou
CATEGORIES:
DESCRIPTION:A contemplative\, sung Anglican service of Evening Prayer with
  beautiful music\, providing a moment of calm at the end of a day.
GEO:-0.325341;51.428579
LOCATION:St. Mary with St. Alban
URL:https://www.teddingtonparish.org/about-us/services/
END:VEVENT
BEGIN:VEVENT
SUMMARY:Choral Evensong
DTSTART;TZID=Europe/London:20260719T183000
DTEND;TZID=Europe/London:20260719T193000
DTSTAMP:20260423T091218Z
UID:12222882026-07-19 18:30:00+01:00achurchnearyou
CATEGORIES:
DESCRIPTION:A contemplative\, sung Anglican service of Evening Prayer with
  beautiful music\, providing a moment of calm at the end of a day.
GEO:-0.325341;51.428579
LOCATION:St. Mary with St. Alban
URL:https://www.teddingtonparish.org/about-us/services/
END:VEVENT
BEGIN:VEVENT
SUMMARY:Choral Evensong
DTSTART;TZID=Europe/London:20260816T183000
DTEND;TZID=Europe/London:20260816T193000
DTSTAMP:20260423T091218Z
UID:12222882026-08-16 18:30:00+01:00achurchnearyou
CATEGORIES:
DESCRIPTION:A contemplative\, sung Anglican service of Evening Prayer with
  beautiful music\, providing a moment of calm at the end of a day.
GEO:-0.325341;51.428579
LOCATION:St. Mary with St. Alban
URL:https://www.teddingtonparish.org/about-us/services/
END:VEVENT
BEGIN:VEVENT
SUMMARY:Choral Evensong
DTSTART;TZID=Europe/London:20260920T183000
DTEND;TZID=Europe/London:20260920T193000
DTSTAMP:20260423T091218Z
UID:12222882026-09-20 18:30:00+01:00achurchnearyou
CATEGORIES:
DESCRIPTION:A contemplative\, sung Anglican service of Evening Prayer with
  beautiful music\, providing a moment of calm at the end of a day.
GEO:-0.325341;51.428579
LOCATION:St. Mary with St. Alban
URL:https://www.teddingtonparish.org/about-us/services/
END:VEVENT
BEGIN:VEVENT
SUMMARY:Choral Evensong
DTSTART;TZID=Europe/London:20261018T183000
DTEND;TZID=Europe/London:20261018T193000
DTSTAMP:20260423T091218Z
UID:12222882026-10-18 18:30:00+01:00achurchnearyou
CATEGORIES:
DESCRIPTION:A contemplative\, sung Anglican service of Evening Prayer with
  beautiful music\, providing a moment of calm at the end of a day.
GEO:-0.325341;51.428579
LOCATION:St. Mary with St. Alban
URL:https://www.teddingtonparish.org/about-us/services/
END:VEVENT
BEGIN:VEVENT
SUMMARY:Choral Evensong
DTSTART;TZID=Europe/London:20261115T183000
DTEND;TZID=Europe/London:20261115T193000
DTSTAMP:20260423T091218Z
UID:12222882026-11-15 18:30:00+00:00achurchnearyou
CATEGORIES:
DESCRIPTION:A contemplative\, sung Anglican service of Evening Prayer with
  beautiful music\, providing a moment of calm at the end of a day.
GEO:-0.325341;51.428579
LOCATION:St. Mary with St. Alban
URL:https://www.teddingtonparish.org/about-us/services/
END:VEVENT
BEGIN:VEVENT
SUMMARY:Choral Evensong
DTSTART;TZID=Europe/London:20261220T183000
DTEND;TZID=Europe/London:20261220T193000
DTSTAMP:20260423T091218Z
UID:12222882026-12-20 18:30:00+00:00achurchnearyou
CATEGORIES:
DESCRIPTION:A contemplative\, sung Anglican service of Evening Prayer with
  beautiful music\, providing a moment of calm at the end of a day.
GEO:-0.325341;51.428579
LOCATION:St. Mary with St. Alban
URL:https://www.teddingtonparish.org/about-us/services/
END:VEVENT
BEGIN:VEVENT
SUMMARY:Choral Evensong
DTSTART;TZID=Europe/London:20270117T183000
DTEND;TZID=Europe/London:20270117T193000
DTSTAMP:20260423T091218Z
UID:12222882027-01-17 18:30:00+00:00achurchnearyou
CATEGORIES:
DESCRIPTION:A contemplative\, sung Anglican service of Evening Prayer with
  beautiful music\, providing a moment of calm at the end of a day.
GEO:-0.325341;51.428579
LOCATION:St. Mary with St. Alban
URL:https://www.teddingtonparish.org/about-us/services/
END:VEVENT
BEGIN:VEVENT
SUMMARY:Choral Evensong
DTSTART;TZID=Europe/London:20270221T183000
DTEND;TZID=Europe/London:20270221T193000
DTSTAMP:20260423T091218Z
UID:12222882027-02-21 18:30:00+00:00achurchnearyou
CATEGORIES:
DESCRIPTION:A contemplative\, sung Anglican service of Evening Prayer with
  beautiful music\, providing a moment of calm at the end of a day.
GEO:-0.325341;51.428579
LOCATION:St. Mary with St. Alban
URL:https://www.teddingtonparish.org/about-us/services/
END:VEVENT
BEGIN:VEVENT
SUMMARY:Choral Evensong
DTSTART;TZID=Europe/London:20270321T183000
DTEND;TZID=Europe/London:20270321T193000
DTSTAMP:20260423T091218Z
UID:12222882027-03-21 18:30:00+00:00achurchnearyou
CATEGORIES:
DESCRIPTION:A contemplative\, sung Anglican service of Evening Prayer with
  beautiful music\, providing a moment of calm at the end of a day.
GEO:-0.325341;51.428579
LOCATION:St. Mary with St. Alban
URL:https://www.teddingtonparish.org/about-us/services/
END:VEVENT
BEGIN:VEVENT
SUMMARY:Choral Evensong
DTSTART;TZID=Europe/London:20270418T183000
DTEND;TZID=Europe/London:20270418T193000
DTSTAMP:20260423T091218Z
UID:12222882027-04-18 18:30:00+01:00achurchnearyou
CATEGORIES:
DESCRIPTION:A contemplative\, sung Anglican service of Evening Prayer with
  beautiful music\, providing a moment of calm at the end of a day.
GEO:-0.325341;51.428579
LOCATION:St. Mary with St. Alban
URL:https://www.teddingtonparish.org/about-us/services/
END:VEVENT
END:VCALENDAR
