BEGIN:VCALENDAR
VERSION:2.0
PRODID:-//achurchnearyou.com//eventfeed//EN
CALSCALE:GREGORIAN
METHOD:PUBLISH
X-WR-TIMEZONE:UTC
BEGIN:VEVENT
SUMMARY:12pm Prayer Vigil until 2.30pm
DTSTART:20260403T110000Z
DTEND:20260403T133000Z
DTSTAMP:20260423T115041Z
UID:12951502026-04-03 11:00:00+00:00achurchnearyou
CATEGORIES:
DESCRIPTION:.
GEO:-0.325341;51.428579
LOCATION:St. Mary with St. Alban
URL:https://www.achurchnearyou.com/church/15499/service-and-events/events/
 1295150/
END:VEVENT
END:VCALENDAR
