BEGIN:VCALENDAR
VERSION:2.0
PRODID:-//achurchnearyou.com//eventfeed//EN
CALSCALE:GREGORIAN
METHOD:PUBLISH
X-WR-TIMEZONE:UTC
BEGIN:VEVENT
SUMMARY:Festival of Nine Lessons and Carols
DTSTART:20251221T183000Z
DTEND:20251221T193000Z
DTSTAMP:20260424T040737Z
UID:7850632025-12-21 18:30:00+00:00achurchnearyou
CATEGORIES:
DESCRIPTION:An incredible evening of carols and readings followed by mince
  pies and mulled wine. Tickets need to be booked for everyone attending\, 
 including any children needing their own seat. Click on the link for to bo
 ok or to get to the livestream channel.\n\nWe look forward to seeing you t
 here\, and after the service you are warmly invited across the road to our
  parish hall for mince pies and mulled wine. Please book your tickets for 
 this event using the link below\n\nThis service will also be broadcast liv
 e via our YouTube channel - and recorded to be watched anytime to suit you
 . To watch the service live\, or to catch up later\, please go to our YouT
 ube channel: https://www.youtube.com/channel/UCkzhqyCElL7YHPCTfvlpNcg
GEO:-0.325341;51.428579
LOCATION:St. Mary with St. Alban
URL:https://stmarywithstalbanchurch.churchsuite.com/calendar/events/6842
END:VEVENT
END:VCALENDAR
