BEGIN:VCALENDAR
VERSION:2.0
PRODID:-//achurchnearyou.com//eventfeed//EN
CALSCALE:GREGORIAN
METHOD:PUBLISH
X-WR-TIMEZONE:UTC
BEGIN:VEVENT
SUMMARY:Lent Lunch in aid of Welcare
DTSTART:20250322T120000Z
DTEND:20250322T130000Z
DTSTAMP:20260425T130443Z
UID:9069262025-03-22 12:00:00+00:00achurchnearyou
CATEGORIES:
DESCRIPTION:Please come and join us at this annual Lent Lunch\, raising fu
 nds for Welcare.  A simple\, homemade lunch will be served\, for us all to
  enjoy together. Running on from the coffees in the parish hall after the 
 10am service. Bring a friend. Please donate on the day\, whilst you are he
 re - paying what you would have paid for lunch elsewhere\, or more if you 
 can.  Cash or cards accepted. Please book your tickets now\, to help us wi
 th the catering and planning. We really look forward to seeing you there.
GEO:-0.325341;51.428579
LOCATION:St. Mary with St. Alban
URL:https://www.achurchnearyou.com/church/15499/service-and-events/events/
 906926/
END:VEVENT
END:VCALENDAR
