BEGIN:VCALENDAR
VERSION:2.0
PRODID:-//achurchnearyou.com//eventfeed//EN
CALSCALE:GREGORIAN
METHOD:PUBLISH
X-WR-TIMEZONE:UTC
BEGIN:VEVENT
SUMMARY:MAUNDY THURSDAY
DTSTART:20260402T183000Z
DTEND:20260402T200000Z
DTSTAMP:20260420T084232Z
UID:13177002026-04-02 18:30:00+00:00achurchnearyou
CATEGORIES:
DESCRIPTION:At our 7.30pm service we commemorate the Last Supper\, Foot Wa
 shing and Gethsemane Watch
GEO:-0.325186;51.446995
LOCATION:St Mary's Twickenham
URL:https://www.achurchnearyou.com/church/15505/service-and-events/events/
 1317700/
END:VEVENT
END:VCALENDAR
