BEGIN:VCALENDAR
VERSION:2.0
PRODID:-//achurchnearyou.com//eventfeed//EN
CALSCALE:GREGORIAN
METHOD:PUBLISH
X-WR-TIMEZONE:UTC
BEGIN:VEVENT
SUMMARY:Dawn service at the River
DTSTART:20260405T050000Z
DTEND:20260405T060000Z
DTSTAMP:20260423T090324Z
UID:9132192026-04-05 05:00:00+00:00achurchnearyou
CATEGORIES:
DESCRIPTION:A simple but beautiful break of dawn service on the bank of th
 e River Thames.\nWe will meet at 6am at the eastern end of Strand on the G
 reen.
LOCATION:Strand on the Green\, Chiswick. W4
URL:https://www.achurchnearyou.com/church/15513/service-and-events/events/
 913219/
END:VEVENT
END:VCALENDAR
