BEGIN:VCALENDAR
VERSION:2.0
PRODID:-//achurchnearyou.com//eventfeed//EN
CALSCALE:GREGORIAN
METHOD:PUBLISH
X-WR-TIMEZONE:UTC
BEGIN:VEVENT
SUMMARY:Youth Group
DTSTART;TZID=Europe/London:20250504T163000
DTEND;TZID=Europe/London:20250504T180000
DTSTAMP:20260424T125302Z
UID:10799392025-05-04 16:30:00+01:00achurchnearyou
CATEGORIES:
DESCRIPTION:All youth\, ages 11-18 are very welcome\, along with any adult
 s who would be interested in helping to run the youth group.
LOCATION:Vicarage
URL:https://www.stpaulsgrovepark.com/youth-group/
END:VEVENT
BEGIN:VEVENT
SUMMARY:Youth Group
DTSTART;TZID=Europe/London:20250518T163000
DTEND;TZID=Europe/London:20250518T180000
DTSTAMP:20260424T125302Z
UID:10799392025-05-18 16:30:00+01:00achurchnearyou
CATEGORIES:
DESCRIPTION:All youth\, ages 11-18 are very welcome\, along with any adult
 s who would be interested in helping to run the youth group.
LOCATION:Vicarage
URL:https://www.stpaulsgrovepark.com/youth-group/
END:VEVENT
BEGIN:VEVENT
SUMMARY:Youth Group
DTSTART;TZID=Europe/London:20250608T163000
DTEND;TZID=Europe/London:20250608T180000
DTSTAMP:20260424T125302Z
UID:10799392025-06-08 16:30:00+01:00achurchnearyou
CATEGORIES:
DESCRIPTION:All youth\, ages 11-18 are very welcome\, along with any adult
 s who would be interested in helping to run the youth group.
LOCATION:Vicarage
URL:https://www.stpaulsgrovepark.com/youth-group/
END:VEVENT
BEGIN:VEVENT
SUMMARY:Youth Group
DTSTART;TZID=Europe/London:20250622T163000
DTEND;TZID=Europe/London:20250622T180000
DTSTAMP:20260424T125302Z
UID:10799392025-06-22 16:30:00+01:00achurchnearyou
CATEGORIES:
DESCRIPTION:All youth\, ages 11-18 are very welcome\, along with any adult
 s who would be interested in helping to run the youth group.
LOCATION:Vicarage
URL:https://www.stpaulsgrovepark.com/youth-group/
END:VEVENT
BEGIN:VEVENT
SUMMARY:Youth Group
DTSTART;TZID=Europe/London:20250706T163000
DTEND;TZID=Europe/London:20250706T180000
DTSTAMP:20260424T125302Z
UID:10799392025-07-06 16:30:00+01:00achurchnearyou
CATEGORIES:
DESCRIPTION:All youth\, ages 11-18 are very welcome\, along with any adult
 s who would be interested in helping to run the youth group.
LOCATION:Vicarage
URL:https://www.stpaulsgrovepark.com/youth-group/
END:VEVENT
END:VCALENDAR
