BEGIN:VCALENDAR
VERSION:2.0
PRODID:-//achurchnearyou.com//eventfeed//EN
CALSCALE:GREGORIAN
METHOD:PUBLISH
X-WR-TIMEZONE:UTC
BEGIN:VEVENT
SUMMARY:Mothering Sunday
DTSTART:20250330T090000Z
DTEND:20250330T100000Z
DTSTAMP:20260424T191244Z
UID:11718912025-03-30 09:00:00+00:00achurchnearyou
CATEGORIES:
DESCRIPTION:Join us in this celebratory service thanking and gift small bo
 uquets of flowers to all mums in this service
GEO:-0.273593;51.481472
LOCATION:St Paul's Church\, Grove Park\, Chiswick
URL:https://www.achurchnearyou.com/church/15516/service-and-events/events/
 1171891/
END:VEVENT
END:VCALENDAR
