BEGIN:VCALENDAR
VERSION:2.0
PRODID:-//achurchnearyou.com//eventfeed//EN
CALSCALE:GREGORIAN
METHOD:PUBLISH
X-WR-TIMEZONE:UTC
BEGIN:VEVENT
SUMMARY:Easter Sunrise Service
DTSTART:20250420T050000Z
DTEND:20250420T060000Z
DTSTAMP:20260424T191104Z
UID:11792632025-04-20 05:00:00+00:00achurchnearyou
CATEGORIES:
DESCRIPTION:Sunrise Service with Easter fire\, followed by breakfast
GEO:-0.273593;51.481472
LOCATION:St Paul's Church\, Grove Park\, Chiswick
URL:https://www.achurchnearyou.com/church/15516/service-and-events/events/
 1179263/
END:VEVENT
END:VCALENDAR
