BEGIN:VCALENDAR
VERSION:2.0
PRODID:-//achurchnearyou.com//eventfeed//EN
CALSCALE:GREGORIAN
METHOD:PUBLISH
X-WR-TIMEZONE:UTC
BEGIN:VEVENT
SUMMARY:Easter Day Service
DTSTART:20250420T090000Z
DTEND:20250420T100000Z
DTSTAMP:20260424T191147Z
UID:11792642025-04-20 09:00:00+00:00achurchnearyou
CATEGORIES:
DESCRIPTION:Family Service with a Easter egg hunt afterwards.
GEO:-0.273593;51.481472
LOCATION:St Paul's Church\, Grove Park\, Chiswick
URL:https://www.achurchnearyou.com/church/15516/service-and-events/events/
 1179264/
END:VEVENT
END:VCALENDAR
