BEGIN:VCALENDAR
VERSION:2.0
PRODID:-//achurchnearyou.com//eventfeed//EN
CALSCALE:GREGORIAN
METHOD:PUBLISH
X-WR-TIMEZONE:UTC
BEGIN:VEVENT
SUMMARY:St.Paul's Flower Festival
DTSTART:20250517T090000Z
DTEND:20250518T170000Z
DTSTAMP:20260424T174116Z
UID:11962662025-05-17 09:00:00+00:00achurchnearyou
CATEGORIES:
DESCRIPTION:Join us Saturday 17th May 10am to 6pm & Sunday 18th May 11:30a
 m to 6pm.\nEntry is free so come and have some fun with us.
GEO:-0.273593;51.481472
LOCATION:St Paul's Church\, Grove Park\, Chiswick
URL:https://www.achurchnearyou.com/church/15516/service-and-events/events/
 1196266/
END:VEVENT
END:VCALENDAR
