BEGIN:VCALENDAR
VERSION:2.0
PRODID:-//achurchnearyou.com//eventfeed//EN
CALSCALE:GREGORIAN
METHOD:PUBLISH
X-WR-TIMEZONE:UTC
BEGIN:VEVENT
SUMMARY:Taizé Service
DTSTART;TZID=Europe/London:20250727T183000
DTEND;TZID=Europe/London:20250727T193000
DTSTAMP:20260423T041809Z
UID:12101622025-07-27 18:30:00+01:00achurchnearyou
CATEGORIES:
DESCRIPTION:Our Taizé Service\, is a meditative service which happens at 
 6:30pm to 7:30pm every fourth Sunday of the month.
GEO:-0.273593;51.481472
LOCATION:St Paul's Church\, Grove Park\, Chiswick
URL:https://www.achurchnearyou.com/church/15516/service-and-events/events/
 1210162/
END:VEVENT
BEGIN:VEVENT
SUMMARY:Taizé Service
DTSTART;TZID=Europe/London:20250928T183000
DTEND;TZID=Europe/London:20250928T193000
DTSTAMP:20260423T041809Z
UID:12101622025-09-28 18:30:00+01:00achurchnearyou
CATEGORIES:
DESCRIPTION:Our Taizé Service\, is a meditative service which happens at 
 6:30pm to 7:30pm every fourth Sunday of the month.
GEO:-0.273593;51.481472
LOCATION:St Paul's Church\, Grove Park\, Chiswick
URL:https://www.achurchnearyou.com/church/15516/service-and-events/events/
 1210162/
END:VEVENT
BEGIN:VEVENT
SUMMARY:Taizé Service
DTSTART;TZID=Europe/London:20251026T183000
DTEND;TZID=Europe/London:20251026T193000
DTSTAMP:20260423T041809Z
UID:12101622025-10-26 18:30:00+00:00achurchnearyou
CATEGORIES:
DESCRIPTION:Our Taizé Service\, is a meditative service which happens at 
 6:30pm to 7:30pm every fourth Sunday of the month.
GEO:-0.273593;51.481472
LOCATION:St Paul's Church\, Grove Park\, Chiswick
URL:https://www.achurchnearyou.com/church/15516/service-and-events/events/
 1210162/
END:VEVENT
BEGIN:VEVENT
SUMMARY:Taizé Service
DTSTART;TZID=Europe/London:20251123T183000
DTEND;TZID=Europe/London:20251123T193000
DTSTAMP:20260423T041809Z
UID:12101622025-11-23 18:30:00+00:00achurchnearyou
CATEGORIES:
DESCRIPTION:Our Taizé Service\, is a meditative service which happens at 
 6:30pm to 7:30pm every fourth Sunday of the month.
GEO:-0.273593;51.481472
LOCATION:St Paul's Church\, Grove Park\, Chiswick
URL:https://www.achurchnearyou.com/church/15516/service-and-events/events/
 1210162/
END:VEVENT
BEGIN:VEVENT
SUMMARY:Taizé Service
DTSTART;TZID=Europe/London:20251228T183000
DTEND;TZID=Europe/London:20251228T193000
DTSTAMP:20260423T041809Z
UID:12101622025-12-28 18:30:00+00:00achurchnearyou
CATEGORIES:
DESCRIPTION:Our Taizé Service\, is a meditative service which happens at 
 6:30pm to 7:30pm every fourth Sunday of the month.
GEO:-0.273593;51.481472
LOCATION:St Paul's Church\, Grove Park\, Chiswick
URL:https://www.achurchnearyou.com/church/15516/service-and-events/events/
 1210162/
END:VEVENT
BEGIN:VEVENT
SUMMARY:Taizé Service
DTSTART;TZID=Europe/London:20260125T183000
DTEND;TZID=Europe/London:20260125T193000
DTSTAMP:20260423T041809Z
UID:12101622026-01-25 18:30:00+00:00achurchnearyou
CATEGORIES:
DESCRIPTION:Our Taizé Service\, is a meditative service which happens at 
 6:30pm to 7:30pm every fourth Sunday of the month.
GEO:-0.273593;51.481472
LOCATION:St Paul's Church\, Grove Park\, Chiswick
URL:https://www.achurchnearyou.com/church/15516/service-and-events/events/
 1210162/
END:VEVENT
BEGIN:VEVENT
SUMMARY:Taizé Service
DTSTART;TZID=Europe/London:20260222T183000
DTEND;TZID=Europe/London:20260222T193000
DTSTAMP:20260423T041809Z
UID:12101622026-02-22 18:30:00+00:00achurchnearyou
CATEGORIES:
DESCRIPTION:Our Taizé Service\, is a meditative service which happens at 
 6:30pm to 7:30pm every fourth Sunday of the month.
GEO:-0.273593;51.481472
LOCATION:St Paul's Church\, Grove Park\, Chiswick
URL:https://www.achurchnearyou.com/church/15516/service-and-events/events/
 1210162/
END:VEVENT
BEGIN:VEVENT
SUMMARY:Taizé Service
DTSTART;TZID=Europe/London:20260322T183000
DTEND;TZID=Europe/London:20260322T193000
DTSTAMP:20260423T041809Z
UID:12101622026-03-22 18:30:00+00:00achurchnearyou
CATEGORIES:
DESCRIPTION:Our Taizé Service\, is a meditative service which happens at 
 6:30pm to 7:30pm every fourth Sunday of the month.
GEO:-0.273593;51.481472
LOCATION:St Paul's Church\, Grove Park\, Chiswick
URL:https://www.achurchnearyou.com/church/15516/service-and-events/events/
 1210162/
END:VEVENT
BEGIN:VEVENT
SUMMARY:Taizé Service
DTSTART;TZID=Europe/London:20260426T183000
DTEND;TZID=Europe/London:20260426T193000
DTSTAMP:20260423T041809Z
UID:12101622026-04-26 18:30:00+01:00achurchnearyou
CATEGORIES:
DESCRIPTION:Our Taizé Service\, is a meditative service which happens at 
 6:30pm to 7:30pm every fourth Sunday of the month.
GEO:-0.273593;51.481472
LOCATION:St Paul's Church\, Grove Park\, Chiswick
URL:https://www.achurchnearyou.com/church/15516/service-and-events/events/
 1210162/
END:VEVENT
BEGIN:VEVENT
SUMMARY:Taizé Service
DTSTART;TZID=Europe/London:20260524T183000
DTEND;TZID=Europe/London:20260524T193000
DTSTAMP:20260423T041809Z
UID:12101622026-05-24 18:30:00+01:00achurchnearyou
CATEGORIES:
DESCRIPTION:Our Taizé Service\, is a meditative service which happens at 
 6:30pm to 7:30pm every fourth Sunday of the month.
GEO:-0.273593;51.481472
LOCATION:St Paul's Church\, Grove Park\, Chiswick
URL:https://www.achurchnearyou.com/church/15516/service-and-events/events/
 1210162/
END:VEVENT
BEGIN:VEVENT
SUMMARY:Taizé Service
DTSTART;TZID=Europe/London:20260628T183000
DTEND;TZID=Europe/London:20260628T193000
DTSTAMP:20260423T041809Z
UID:12101622026-06-28 18:30:00+01:00achurchnearyou
CATEGORIES:
DESCRIPTION:Our Taizé Service\, is a meditative service which happens at 
 6:30pm to 7:30pm every fourth Sunday of the month.
GEO:-0.273593;51.481472
LOCATION:St Paul's Church\, Grove Park\, Chiswick
URL:https://www.achurchnearyou.com/church/15516/service-and-events/events/
 1210162/
END:VEVENT
BEGIN:VEVENT
SUMMARY:Taizé Service
DTSTART;TZID=Europe/London:20260726T183000
DTEND;TZID=Europe/London:20260726T193000
DTSTAMP:20260423T041809Z
UID:12101622026-07-26 18:30:00+01:00achurchnearyou
CATEGORIES:
DESCRIPTION:Our Taizé Service\, is a meditative service which happens at 
 6:30pm to 7:30pm every fourth Sunday of the month.
GEO:-0.273593;51.481472
LOCATION:St Paul's Church\, Grove Park\, Chiswick
URL:https://www.achurchnearyou.com/church/15516/service-and-events/events/
 1210162/
END:VEVENT
END:VCALENDAR
