BEGIN:VCALENDAR
VERSION:2.0
PRODID:-//achurchnearyou.com//eventfeed//EN
CALSCALE:GREGORIAN
METHOD:PUBLISH
X-WR-TIMEZONE:UTC
BEGIN:VEVENT
SUMMARY:Parish Eucharist
DTSTART;TZID=Europe/London:20260405T100000
DTEND;TZID=Europe/London:20260405T110000
DTSTAMP:20260419T125736Z
UID:1108741775379600.0achurchnearyou
CATEGORIES:
DESCRIPTION:Our Sung Eucharist.  A traditional service with a robed choir 
 and vestments.  There is a dedicated time of teaching  each week for the y
 ounger members of our congregation.
GEO:-0.452971;51.387785
LOCATION:St Nicholas Shepperton
URL:https://www.stnicholaschurch-shepperton.org/weekly-worship.html
END:VEVENT
BEGIN:VEVENT
SUMMARY:Parish Eucharist
DTSTART;TZID=Europe/London:20260412T100000
DTEND;TZID=Europe/London:20260412T110000
DTSTAMP:20260419T125736Z
UID:1108741775984400.0achurchnearyou
CATEGORIES:
DESCRIPTION:Our Sung Eucharist.  A traditional service with a robed choir 
 and vestments.  There is a dedicated time of teaching  each week for the y
 ounger members of our congregation.
GEO:-0.452971;51.387785
LOCATION:St Nicholas Shepperton
URL:https://www.stnicholaschurch-shepperton.org/weekly-worship.html
END:VEVENT
BEGIN:VEVENT
SUMMARY:Parish Eucharist
DTSTART;TZID=Europe/London:20260419T100000
DTEND;TZID=Europe/London:20260419T110000
DTSTAMP:20260419T125736Z
UID:1108741776589200.0achurchnearyou
CATEGORIES:
DESCRIPTION:Our Sung Eucharist.  A traditional service with a robed choir 
 and vestments.  There is a dedicated time of teaching  each week for the y
 ounger members of our congregation.
GEO:-0.452971;51.387785
LOCATION:St Nicholas Shepperton
URL:https://www.stnicholaschurch-shepperton.org/weekly-worship.html
END:VEVENT
BEGIN:VEVENT
SUMMARY:Tuesday midweek Eucharist
DTSTART;TZID=Europe/London:20260421T103000
DTEND;TZID=Europe/London:20260421T113000
DTSTAMP:20260419T125736Z
UID:10903041776763800.0achurchnearyou
CATEGORIES:
DESCRIPTION:An opportunity to spend a quiet time at our said Eucharist. \n
 Held on the Third Tuesday of each month at 10.30am.  Followed by time to c
 hat over tea or coffee afterwards.
GEO:-0.452971;51.387785
LOCATION:St Nicholas Shepperton
URL:https://www.achurchnearyou.com/church/15551/service-and-events/events/
 1090304/
END:VEVENT
BEGIN:VEVENT
SUMMARY:Parish Eucharist
DTSTART;TZID=Europe/London:20260426T100000
DTEND;TZID=Europe/London:20260426T110000
DTSTAMP:20260419T125736Z
UID:1108741777194000.0achurchnearyou
CATEGORIES:
DESCRIPTION:Our Sung Eucharist.  A traditional service with a robed choir 
 and vestments.  There is a dedicated time of teaching  each week for the y
 ounger members of our congregation.
GEO:-0.452971;51.387785
LOCATION:St Nicholas Shepperton
URL:https://www.stnicholaschurch-shepperton.org/weekly-worship.html
END:VEVENT
BEGIN:VEVENT
SUMMARY:Parish Eucharist
DTSTART;TZID=Europe/London:20260503T100000
DTEND;TZID=Europe/London:20260503T110000
DTSTAMP:20260419T125736Z
UID:1108741777798800.0achurchnearyou
CATEGORIES:
DESCRIPTION:Our Sung Eucharist.  A traditional service with a robed choir 
 and vestments.  There is a dedicated time of teaching  each week for the y
 ounger members of our congregation.
GEO:-0.452971;51.387785
LOCATION:St Nicholas Shepperton
URL:https://www.stnicholaschurch-shepperton.org/weekly-worship.html
END:VEVENT
BEGIN:VEVENT
SUMMARY:Parish Eucharist
DTSTART;TZID=Europe/London:20260510T100000
DTEND;TZID=Europe/London:20260510T110000
DTSTAMP:20260419T125736Z
UID:1108741778403600.0achurchnearyou
CATEGORIES:
DESCRIPTION:Our Sung Eucharist.  A traditional service with a robed choir 
 and vestments.  There is a dedicated time of teaching  each week for the y
 ounger members of our congregation.
GEO:-0.452971;51.387785
LOCATION:St Nicholas Shepperton
URL:https://www.stnicholaschurch-shepperton.org/weekly-worship.html
END:VEVENT
BEGIN:VEVENT
SUMMARY:Parish Eucharist
DTSTART;TZID=Europe/London:20260517T100000
DTEND;TZID=Europe/London:20260517T110000
DTSTAMP:20260419T125736Z
UID:1108741779008400.0achurchnearyou
CATEGORIES:
DESCRIPTION:Our Sung Eucharist.  A traditional service with a robed choir 
 and vestments.  There is a dedicated time of teaching  each week for the y
 ounger members of our congregation.
GEO:-0.452971;51.387785
LOCATION:St Nicholas Shepperton
URL:https://www.stnicholaschurch-shepperton.org/weekly-worship.html
END:VEVENT
BEGIN:VEVENT
SUMMARY:Tuesday midweek Eucharist
DTSTART;TZID=Europe/London:20260519T103000
DTEND;TZID=Europe/London:20260519T113000
DTSTAMP:20260419T125736Z
UID:10903041779183000.0achurchnearyou
CATEGORIES:
DESCRIPTION:An opportunity to spend a quiet time at our said Eucharist. \n
 Held on the Third Tuesday of each month at 10.30am.  Followed by time to c
 hat over tea or coffee afterwards.
GEO:-0.452971;51.387785
LOCATION:St Nicholas Shepperton
URL:https://www.achurchnearyou.com/church/15551/service-and-events/events/
 1090304/
END:VEVENT
BEGIN:VEVENT
SUMMARY:Parish Eucharist
DTSTART;TZID=Europe/London:20260524T100000
DTEND;TZID=Europe/London:20260524T110000
DTSTAMP:20260419T125736Z
UID:1108741779613200.0achurchnearyou
CATEGORIES:
DESCRIPTION:Our Sung Eucharist.  A traditional service with a robed choir 
 and vestments.  There is a dedicated time of teaching  each week for the y
 ounger members of our congregation.
GEO:-0.452971;51.387785
LOCATION:St Nicholas Shepperton
URL:https://www.stnicholaschurch-shepperton.org/weekly-worship.html
END:VEVENT
BEGIN:VEVENT
SUMMARY:Parish Eucharist
DTSTART;TZID=Europe/London:20260531T100000
DTEND;TZID=Europe/London:20260531T110000
DTSTAMP:20260419T125736Z
UID:1108741780218000.0achurchnearyou
CATEGORIES:
DESCRIPTION:Our Sung Eucharist.  A traditional service with a robed choir 
 and vestments.  There is a dedicated time of teaching  each week for the y
 ounger members of our congregation.
GEO:-0.452971;51.387785
LOCATION:St Nicholas Shepperton
URL:https://www.stnicholaschurch-shepperton.org/weekly-worship.html
END:VEVENT
BEGIN:VEVENT
SUMMARY:Parish Eucharist
DTSTART;TZID=Europe/London:20260607T100000
DTEND;TZID=Europe/London:20260607T110000
DTSTAMP:20260419T125736Z
UID:1108741780822800.0achurchnearyou
CATEGORIES:
DESCRIPTION:Our Sung Eucharist.  A traditional service with a robed choir 
 and vestments.  There is a dedicated time of teaching  each week for the y
 ounger members of our congregation.
GEO:-0.452971;51.387785
LOCATION:St Nicholas Shepperton
URL:https://www.stnicholaschurch-shepperton.org/weekly-worship.html
END:VEVENT
BEGIN:VEVENT
SUMMARY:Parish Eucharist
DTSTART;TZID=Europe/London:20260614T100000
DTEND;TZID=Europe/London:20260614T110000
DTSTAMP:20260419T125736Z
UID:1108741781427600.0achurchnearyou
CATEGORIES:
DESCRIPTION:Our Sung Eucharist.  A traditional service with a robed choir 
 and vestments.  There is a dedicated time of teaching  each week for the y
 ounger members of our congregation.
GEO:-0.452971;51.387785
LOCATION:St Nicholas Shepperton
URL:https://www.stnicholaschurch-shepperton.org/weekly-worship.html
END:VEVENT
BEGIN:VEVENT
SUMMARY:Tuesday midweek Eucharist
DTSTART;TZID=Europe/London:20260616T103000
DTEND;TZID=Europe/London:20260616T113000
DTSTAMP:20260419T125736Z
UID:10903041781602200.0achurchnearyou
CATEGORIES:
DESCRIPTION:An opportunity to spend a quiet time at our said Eucharist. \n
 Held on the Third Tuesday of each month at 10.30am.  Followed by time to c
 hat over tea or coffee afterwards.
GEO:-0.452971;51.387785
LOCATION:St Nicholas Shepperton
URL:https://www.achurchnearyou.com/church/15551/service-and-events/events/
 1090304/
END:VEVENT
BEGIN:VEVENT
SUMMARY:Parish Eucharist
DTSTART;TZID=Europe/London:20260621T100000
DTEND;TZID=Europe/London:20260621T110000
DTSTAMP:20260419T125736Z
UID:1108741782032400.0achurchnearyou
CATEGORIES:
DESCRIPTION:Our Sung Eucharist.  A traditional service with a robed choir 
 and vestments.  There is a dedicated time of teaching  each week for the y
 ounger members of our congregation.
GEO:-0.452971;51.387785
LOCATION:St Nicholas Shepperton
URL:https://www.stnicholaschurch-shepperton.org/weekly-worship.html
END:VEVENT
BEGIN:VEVENT
SUMMARY:Parish Eucharist
DTSTART;TZID=Europe/London:20260628T100000
DTEND;TZID=Europe/London:20260628T110000
DTSTAMP:20260419T125736Z
UID:1108741782637200.0achurchnearyou
CATEGORIES:
DESCRIPTION:Our Sung Eucharist.  A traditional service with a robed choir 
 and vestments.  There is a dedicated time of teaching  each week for the y
 ounger members of our congregation.
GEO:-0.452971;51.387785
LOCATION:St Nicholas Shepperton
URL:https://www.stnicholaschurch-shepperton.org/weekly-worship.html
END:VEVENT
BEGIN:VEVENT
SUMMARY:Parish Eucharist
DTSTART;TZID=Europe/London:20260705T100000
DTEND;TZID=Europe/London:20260705T110000
DTSTAMP:20260419T125736Z
UID:1108741783242000.0achurchnearyou
CATEGORIES:
DESCRIPTION:Our Sung Eucharist.  A traditional service with a robed choir 
 and vestments.  There is a dedicated time of teaching  each week for the y
 ounger members of our congregation.
GEO:-0.452971;51.387785
LOCATION:St Nicholas Shepperton
URL:https://www.stnicholaschurch-shepperton.org/weekly-worship.html
END:VEVENT
BEGIN:VEVENT
SUMMARY:Parish Eucharist
DTSTART;TZID=Europe/London:20260712T100000
DTEND;TZID=Europe/London:20260712T110000
DTSTAMP:20260419T125736Z
UID:1108741783846800.0achurchnearyou
CATEGORIES:
DESCRIPTION:Our Sung Eucharist.  A traditional service with a robed choir 
 and vestments.  There is a dedicated time of teaching  each week for the y
 ounger members of our congregation.
GEO:-0.452971;51.387785
LOCATION:St Nicholas Shepperton
URL:https://www.stnicholaschurch-shepperton.org/weekly-worship.html
END:VEVENT
BEGIN:VEVENT
SUMMARY:Parish Eucharist
DTSTART;TZID=Europe/London:20260719T100000
DTEND;TZID=Europe/London:20260719T110000
DTSTAMP:20260419T125736Z
UID:1108741784451600.0achurchnearyou
CATEGORIES:
DESCRIPTION:Our Sung Eucharist.  A traditional service with a robed choir 
 and vestments.  There is a dedicated time of teaching  each week for the y
 ounger members of our congregation.
GEO:-0.452971;51.387785
LOCATION:St Nicholas Shepperton
URL:https://www.stnicholaschurch-shepperton.org/weekly-worship.html
END:VEVENT
BEGIN:VEVENT
SUMMARY:Tuesday midweek Eucharist
DTSTART;TZID=Europe/London:20260721T103000
DTEND;TZID=Europe/London:20260721T113000
DTSTAMP:20260419T125736Z
UID:10903041784626200.0achurchnearyou
CATEGORIES:
DESCRIPTION:An opportunity to spend a quiet time at our said Eucharist. \n
 Held on the Third Tuesday of each month at 10.30am.  Followed by time to c
 hat over tea or coffee afterwards.
GEO:-0.452971;51.387785
LOCATION:St Nicholas Shepperton
URL:https://www.achurchnearyou.com/church/15551/service-and-events/events/
 1090304/
END:VEVENT
BEGIN:VEVENT
SUMMARY:Parish Eucharist
DTSTART;TZID=Europe/London:20260726T100000
DTEND;TZID=Europe/London:20260726T110000
DTSTAMP:20260419T125736Z
UID:1108741785056400.0achurchnearyou
CATEGORIES:
DESCRIPTION:Our Sung Eucharist.  A traditional service with a robed choir 
 and vestments.  There is a dedicated time of teaching  each week for the y
 ounger members of our congregation.
GEO:-0.452971;51.387785
LOCATION:St Nicholas Shepperton
URL:https://www.stnicholaschurch-shepperton.org/weekly-worship.html
END:VEVENT
BEGIN:VEVENT
SUMMARY:Parish Eucharist
DTSTART;TZID=Europe/London:20260802T100000
DTEND;TZID=Europe/London:20260802T110000
DTSTAMP:20260419T125736Z
UID:1108741785661200.0achurchnearyou
CATEGORIES:
DESCRIPTION:Our Sung Eucharist.  A traditional service with a robed choir 
 and vestments.  There is a dedicated time of teaching  each week for the y
 ounger members of our congregation.
GEO:-0.452971;51.387785
LOCATION:St Nicholas Shepperton
URL:https://www.stnicholaschurch-shepperton.org/weekly-worship.html
END:VEVENT
BEGIN:VEVENT
SUMMARY:Parish Eucharist
DTSTART;TZID=Europe/London:20260809T100000
DTEND;TZID=Europe/London:20260809T110000
DTSTAMP:20260419T125736Z
UID:1108741786266000.0achurchnearyou
CATEGORIES:
DESCRIPTION:Our Sung Eucharist.  A traditional service with a robed choir 
 and vestments.  There is a dedicated time of teaching  each week for the y
 ounger members of our congregation.
GEO:-0.452971;51.387785
LOCATION:St Nicholas Shepperton
URL:https://www.stnicholaschurch-shepperton.org/weekly-worship.html
END:VEVENT
BEGIN:VEVENT
SUMMARY:Parish Eucharist
DTSTART;TZID=Europe/London:20260816T100000
DTEND;TZID=Europe/London:20260816T110000
DTSTAMP:20260419T125736Z
UID:1108741786870800.0achurchnearyou
CATEGORIES:
DESCRIPTION:Our Sung Eucharist.  A traditional service with a robed choir 
 and vestments.  There is a dedicated time of teaching  each week for the y
 ounger members of our congregation.
GEO:-0.452971;51.387785
LOCATION:St Nicholas Shepperton
URL:https://www.stnicholaschurch-shepperton.org/weekly-worship.html
END:VEVENT
BEGIN:VEVENT
SUMMARY:Tuesday midweek Eucharist
DTSTART;TZID=Europe/London:20260818T103000
DTEND;TZID=Europe/London:20260818T113000
DTSTAMP:20260419T125736Z
UID:10903041787045400.0achurchnearyou
CATEGORIES:
DESCRIPTION:An opportunity to spend a quiet time at our said Eucharist. \n
 Held on the Third Tuesday of each month at 10.30am.  Followed by time to c
 hat over tea or coffee afterwards.
GEO:-0.452971;51.387785
LOCATION:St Nicholas Shepperton
URL:https://www.achurchnearyou.com/church/15551/service-and-events/events/
 1090304/
END:VEVENT
BEGIN:VEVENT
SUMMARY:Parish Eucharist
DTSTART;TZID=Europe/London:20260823T100000
DTEND;TZID=Europe/London:20260823T110000
DTSTAMP:20260419T125736Z
UID:1108741787475600.0achurchnearyou
CATEGORIES:
DESCRIPTION:Our Sung Eucharist.  A traditional service with a robed choir 
 and vestments.  There is a dedicated time of teaching  each week for the y
 ounger members of our congregation.
GEO:-0.452971;51.387785
LOCATION:St Nicholas Shepperton
URL:https://www.stnicholaschurch-shepperton.org/weekly-worship.html
END:VEVENT
BEGIN:VEVENT
SUMMARY:Parish Eucharist
DTSTART;TZID=Europe/London:20260830T100000
DTEND;TZID=Europe/London:20260830T110000
DTSTAMP:20260419T125736Z
UID:1108741788080400.0achurchnearyou
CATEGORIES:
DESCRIPTION:Our Sung Eucharist.  A traditional service with a robed choir 
 and vestments.  There is a dedicated time of teaching  each week for the y
 ounger members of our congregation.
GEO:-0.452971;51.387785
LOCATION:St Nicholas Shepperton
URL:https://www.stnicholaschurch-shepperton.org/weekly-worship.html
END:VEVENT
BEGIN:VEVENT
SUMMARY:Parish Eucharist
DTSTART;TZID=Europe/London:20260906T100000
DTEND;TZID=Europe/London:20260906T110000
DTSTAMP:20260419T125736Z
UID:1108741788685200.0achurchnearyou
CATEGORIES:
DESCRIPTION:Our Sung Eucharist.  A traditional service with a robed choir 
 and vestments.  There is a dedicated time of teaching  each week for the y
 ounger members of our congregation.
GEO:-0.452971;51.387785
LOCATION:St Nicholas Shepperton
URL:https://www.stnicholaschurch-shepperton.org/weekly-worship.html
END:VEVENT
BEGIN:VEVENT
SUMMARY:Parish Eucharist
DTSTART;TZID=Europe/London:20260913T100000
DTEND;TZID=Europe/London:20260913T110000
DTSTAMP:20260419T125736Z
UID:1108741789290000.0achurchnearyou
CATEGORIES:
DESCRIPTION:Our Sung Eucharist.  A traditional service with a robed choir 
 and vestments.  There is a dedicated time of teaching  each week for the y
 ounger members of our congregation.
GEO:-0.452971;51.387785
LOCATION:St Nicholas Shepperton
URL:https://www.stnicholaschurch-shepperton.org/weekly-worship.html
END:VEVENT
BEGIN:VEVENT
SUMMARY:Tuesday midweek Eucharist
DTSTART;TZID=Europe/London:20260915T103000
DTEND;TZID=Europe/London:20260915T113000
DTSTAMP:20260419T125736Z
UID:10903041789464600.0achurchnearyou
CATEGORIES:
DESCRIPTION:An opportunity to spend a quiet time at our said Eucharist. \n
 Held on the Third Tuesday of each month at 10.30am.  Followed by time to c
 hat over tea or coffee afterwards.
GEO:-0.452971;51.387785
LOCATION:St Nicholas Shepperton
URL:https://www.achurchnearyou.com/church/15551/service-and-events/events/
 1090304/
END:VEVENT
BEGIN:VEVENT
SUMMARY:Parish Eucharist
DTSTART;TZID=Europe/London:20260920T100000
DTEND;TZID=Europe/London:20260920T110000
DTSTAMP:20260419T125736Z
UID:1108741789894800.0achurchnearyou
CATEGORIES:
DESCRIPTION:Our Sung Eucharist.  A traditional service with a robed choir 
 and vestments.  There is a dedicated time of teaching  each week for the y
 ounger members of our congregation.
GEO:-0.452971;51.387785
LOCATION:St Nicholas Shepperton
URL:https://www.stnicholaschurch-shepperton.org/weekly-worship.html
END:VEVENT
BEGIN:VEVENT
SUMMARY:Parish Eucharist
DTSTART;TZID=Europe/London:20260927T100000
DTEND;TZID=Europe/London:20260927T110000
DTSTAMP:20260419T125736Z
UID:1108741790499600.0achurchnearyou
CATEGORIES:
DESCRIPTION:Our Sung Eucharist.  A traditional service with a robed choir 
 and vestments.  There is a dedicated time of teaching  each week for the y
 ounger members of our congregation.
GEO:-0.452971;51.387785
LOCATION:St Nicholas Shepperton
URL:https://www.stnicholaschurch-shepperton.org/weekly-worship.html
END:VEVENT
END:VCALENDAR
