BEGIN:VCALENDAR
VERSION:2.0
PRODID:-//achurchnearyou.com//eventfeed//EN
CALSCALE:GREGORIAN
METHOD:PUBLISH
X-WR-TIMEZONE:UTC
BEGIN:VEVENT
SUMMARY:Meditative Reflections
DTSTART:20250415T180000Z
DTEND:20250415T190000Z
DTSTAMP:20260425T183819Z
UID:11798072025-04-15 18:00:00+00:00achurchnearyou
CATEGORIES:
DESCRIPTION:Take a moment of peace this Holy Week and join us for a medita
 tive service.
GEO:-0.175459;51.627502
LOCATION:St John's Church\, N20
URL:https://www.achurchnearyou.com/church/15562/service-and-events/events/
 1179807/
END:VEVENT
END:VCALENDAR
