BEGIN:VCALENDAR
VERSION:2.0
PRODID:-//achurchnearyou.com//eventfeed//EN
CALSCALE:GREGORIAN
METHOD:PUBLISH
X-WR-TIMEZONE:UTC
BEGIN:VEVENT
SUMMARY:VE Day Memorial Concert
DTSTART:20250508T180000Z
DTEND:20250508T200000Z
DTSTAMP:20260422T203310Z
UID:11764942025-05-08 18:00:00+00:00achurchnearyou
CATEGORIES:
DESCRIPTION:On Thursday 8th May Monken Hadley Church will be joining the K
 ing and the Nation in commemorating the 80th Anniversary of Victory in Eur
 ope Day.  \n\nOur evening will begin with 7pm drinks reception (included i
 n the ticket price)\, followed by a celebratory concert at 7.30pm that tak
 es us back to 1945\, recalls the courage and spirit of the time and reflec
 ts the relief\, joy and celebration of VE Day.  The evening with culminate
  in the 9.15pm Ceremonial Lighting of the Beacon.\n\nJoin us for an evenin
 g of delightful music and song performed by vocalists - Angela Henckel\, S
 arah Roth and friends\, host and orator Elaine Padmore OBE and organist/pi
 anist Martyn Noble\, featuring well-loved wartime numbers by the likes of 
 Vera Lynn and Ivor Novello as well as some classical favourites. Interval 
 refreshments and raffle tickets will be available to purchase.\nAll procee
 ds for this event will go towards our Church House Renewal Fund.\n\nTicket
  price £15-£30 including a pre-perfomance drink. Tickets can be bought b
 y clicking the More Info button below.
GEO:-0.1938;51.6614
LOCATION:St Mary the Virgin\, Monken Hadley
URL:https://www.ticketsource.co.uk/whats-on/barnet/saint-mary-the-virgin-c
 hurch-monken-hadley/ve-day-80-concert-and-ceremonial-beacon-lighting/2025-
 05-08/19:30/t-vvgozpz
END:VEVENT
END:VCALENDAR
