BEGIN:VCALENDAR
VERSION:2.0
PRODID:-//achurchnearyou.com//eventfeed//EN
CALSCALE:GREGORIAN
METHOD:PUBLISH
X-WR-TIMEZONE:UTC
BEGIN:VEVENT
SUMMARY:Organ Day
DTSTART:20250913T090000Z
DTEND:20250913T110000Z
DTSTAMP:20260425T173604Z
UID:12172022025-09-13 09:00:00+00:00achurchnearyou
CATEGORIES:
DESCRIPTION:At Monken Hadley we have a fine organ by Forster & Andrews whi
 ch is used at most of our services. As part of the Royal College Of Organi
 sts "Play The Organ Year" we are holding an open morning for anyone that's
  interested in the organ. \n\nDo you want to know how the organ works? Why
  is there more than one keyboard? What do all the stop knobs do? We will h
 ave videos and a talk that will answer all of these.\n\nThere's also the o
 pportunity for anyone that wants to have a go on the organ. If you play pi
 ano already you can bring some music you are familiar with. If you are a t
 otal beginner we can guide you through your first notes.\n\nEntry is free 
 but donations to support our music programme are welcome.
GEO:-0.1938;51.6614
LOCATION:St Mary the Virgin\, Monken Hadley
URL:https://www.achurchnearyou.com/church/15567/service-and-events/events/
 1217202/
END:VEVENT
END:VCALENDAR
