BEGIN:VCALENDAR
VERSION:2.0
PRODID:-//achurchnearyou.com//eventfeed//EN
CALSCALE:GREGORIAN
METHOD:PUBLISH
X-WR-TIMEZONE:UTC
BEGIN:VEVENT
SUMMARY:Holy Week & Easter
DTSTART;TZID=Europe/London:20250413T110000
DTEND;TZID=Europe/London:20250413T123000
DTSTAMP:20260425T050820Z
UID:11744602025-04-13 11:00:00+01:00achurchnearyou
CATEGORIES:
DESCRIPTION:Join us to celebrate the Passion\, Death and Resurrection of J
 esus Christ.
GEO:-0.141049;51.559714
LOCATION:St Mary Brookfield
URL:https://www.achurchnearyou.com/church/15595/service-and-events/events/
 1174460/
END:VEVENT
BEGIN:VEVENT
SUMMARY:Holy Week & Easter
DTSTART;TZID=Europe/London:20250419T110000
DTEND;TZID=Europe/London:20250419T123000
DTSTAMP:20260425T050820Z
UID:11744602025-04-19 11:00:00+01:00achurchnearyou
CATEGORIES:
DESCRIPTION:Join us to celebrate the Passion\, Death and Resurrection of J
 esus Christ.
GEO:-0.141049;51.559714
LOCATION:St Mary Brookfield
URL:https://www.achurchnearyou.com/church/15595/service-and-events/events/
 1174460/
END:VEVENT
BEGIN:VEVENT
SUMMARY:Holy Week & Easter
DTSTART;TZID=Europe/London:20250420T110000
DTEND;TZID=Europe/London:20250420T123000
DTSTAMP:20260425T050820Z
UID:11744602025-04-20 11:00:00+01:00achurchnearyou
CATEGORIES:
DESCRIPTION:Join us to celebrate the Passion\, Death and Resurrection of J
 esus Christ.
GEO:-0.141049;51.559714
LOCATION:St Mary Brookfield
URL:https://www.achurchnearyou.com/church/15595/service-and-events/events/
 1174460/
END:VEVENT
BEGIN:VEVENT
SUMMARY:Holy Week & Easter
DTSTART;TZID=Europe/London:20250414T110000
DTEND;TZID=Europe/London:20250414T123000
DTSTAMP:20260425T050820Z
UID:11744602025-04-14 11:00:00+01:00achurchnearyou
CATEGORIES:
DESCRIPTION:Join us to celebrate the Passion\, Death and Resurrection of J
 esus Christ.
GEO:-0.141049;51.559714
LOCATION:St Mary Brookfield
URL:https://www.achurchnearyou.com/church/15595/service-and-events/events/
 1174460/
END:VEVENT
BEGIN:VEVENT
SUMMARY:Holy Week & Easter
DTSTART;TZID=Europe/London:20250415T110000
DTEND;TZID=Europe/London:20250415T123000
DTSTAMP:20260425T050820Z
UID:11744602025-04-15 11:00:00+01:00achurchnearyou
CATEGORIES:
DESCRIPTION:Join us to celebrate the Passion\, Death and Resurrection of J
 esus Christ.
GEO:-0.141049;51.559714
LOCATION:St Mary Brookfield
URL:https://www.achurchnearyou.com/church/15595/service-and-events/events/
 1174460/
END:VEVENT
BEGIN:VEVENT
SUMMARY:Holy Week & Easter
DTSTART;TZID=Europe/London:20250416T110000
DTEND;TZID=Europe/London:20250416T123000
DTSTAMP:20260425T050820Z
UID:11744602025-04-16 11:00:00+01:00achurchnearyou
CATEGORIES:
DESCRIPTION:Join us to celebrate the Passion\, Death and Resurrection of J
 esus Christ.
GEO:-0.141049;51.559714
LOCATION:St Mary Brookfield
URL:https://www.achurchnearyou.com/church/15595/service-and-events/events/
 1174460/
END:VEVENT
BEGIN:VEVENT
SUMMARY:Holy Week & Easter
DTSTART;TZID=Europe/London:20250417T110000
DTEND;TZID=Europe/London:20250417T123000
DTSTAMP:20260425T050820Z
UID:11744602025-04-17 11:00:00+01:00achurchnearyou
CATEGORIES:
DESCRIPTION:Join us to celebrate the Passion\, Death and Resurrection of J
 esus Christ.
GEO:-0.141049;51.559714
LOCATION:St Mary Brookfield
URL:https://www.achurchnearyou.com/church/15595/service-and-events/events/
 1174460/
END:VEVENT
BEGIN:VEVENT
SUMMARY:Holy Week & Easter
DTSTART;TZID=Europe/London:20250418T110000
DTEND;TZID=Europe/London:20250418T123000
DTSTAMP:20260425T050820Z
UID:11744602025-04-18 11:00:00+01:00achurchnearyou
CATEGORIES:
DESCRIPTION:Join us to celebrate the Passion\, Death and Resurrection of J
 esus Christ.
GEO:-0.141049;51.559714
LOCATION:St Mary Brookfield
URL:https://www.achurchnearyou.com/church/15595/service-and-events/events/
 1174460/
END:VEVENT
END:VCALENDAR
