BEGIN:VCALENDAR
VERSION:2.0
PRODID:-//achurchnearyou.com//eventfeed//EN
CALSCALE:GREGORIAN
METHOD:PUBLISH
X-WR-TIMEZONE:UTC
BEGIN:VEVENT
SUMMARY:Solemn Mass
DTSTART;TZID=Europe/London:20260405T110000
DTEND;TZID=Europe/London:20260405T121000
DTSTAMP:20260423T144915Z
UID:5118351775383200.0achurchnearyou
CATEGORIES:
DESCRIPTION:Come and join us for our weekly Parish Mass. We are a small an
 d committed congregation faithfully living out our call to worship and ser
 ve God in Dartmouth Park.\n\nOur Mass is sung by our professional choir. W
 e have a number of children and have an active Sunday School. \n\nAll welc
 ome!
GEO:-0.141049;51.559714
LOCATION:St Mary Brookfield
URL:https://www.achurchnearyou.com/church/15595/service-and-events/events/
 511835/
END:VEVENT
BEGIN:VEVENT
SUMMARY:Solemn Mass
DTSTART;TZID=Europe/London:20260412T110000
DTEND;TZID=Europe/London:20260412T121000
DTSTAMP:20260423T144915Z
UID:5118351775988000.0achurchnearyou
CATEGORIES:
DESCRIPTION:Come and join us for our weekly Parish Mass. We are a small an
 d committed congregation faithfully living out our call to worship and ser
 ve God in Dartmouth Park.\n\nOur Mass is sung by our professional choir. W
 e have a number of children and have an active Sunday School. \n\nAll welc
 ome!
GEO:-0.141049;51.559714
LOCATION:St Mary Brookfield
URL:https://www.achurchnearyou.com/church/15595/service-and-events/events/
 511835/
END:VEVENT
BEGIN:VEVENT
SUMMARY:Solemn Mass
DTSTART;TZID=Europe/London:20260419T110000
DTEND;TZID=Europe/London:20260419T121000
DTSTAMP:20260423T144915Z
UID:5118351776592800.0achurchnearyou
CATEGORIES:
DESCRIPTION:Come and join us for our weekly Parish Mass. We are a small an
 d committed congregation faithfully living out our call to worship and ser
 ve God in Dartmouth Park.\n\nOur Mass is sung by our professional choir. W
 e have a number of children and have an active Sunday School. \n\nAll welc
 ome!
GEO:-0.141049;51.559714
LOCATION:St Mary Brookfield
URL:https://www.achurchnearyou.com/church/15595/service-and-events/events/
 511835/
END:VEVENT
BEGIN:VEVENT
SUMMARY:Solemn Mass
DTSTART;TZID=Europe/London:20260426T110000
DTEND;TZID=Europe/London:20260426T121000
DTSTAMP:20260423T144915Z
UID:5118351777197600.0achurchnearyou
CATEGORIES:
DESCRIPTION:Come and join us for our weekly Parish Mass. We are a small an
 d committed congregation faithfully living out our call to worship and ser
 ve God in Dartmouth Park.\n\nOur Mass is sung by our professional choir. W
 e have a number of children and have an active Sunday School. \n\nAll welc
 ome!
GEO:-0.141049;51.559714
LOCATION:St Mary Brookfield
URL:https://www.achurchnearyou.com/church/15595/service-and-events/events/
 511835/
END:VEVENT
BEGIN:VEVENT
SUMMARY:Solemn Mass
DTSTART;TZID=Europe/London:20260503T110000
DTEND;TZID=Europe/London:20260503T121000
DTSTAMP:20260423T144915Z
UID:5118351777802400.0achurchnearyou
CATEGORIES:
DESCRIPTION:Come and join us for our weekly Parish Mass. We are a small an
 d committed congregation faithfully living out our call to worship and ser
 ve God in Dartmouth Park.\n\nOur Mass is sung by our professional choir. W
 e have a number of children and have an active Sunday School. \n\nAll welc
 ome!
GEO:-0.141049;51.559714
LOCATION:St Mary Brookfield
URL:https://www.achurchnearyou.com/church/15595/service-and-events/events/
 511835/
END:VEVENT
BEGIN:VEVENT
SUMMARY:Solemn Mass
DTSTART;TZID=Europe/London:20260510T110000
DTEND;TZID=Europe/London:20260510T121000
DTSTAMP:20260423T144915Z
UID:5118351778407200.0achurchnearyou
CATEGORIES:
DESCRIPTION:Come and join us for our weekly Parish Mass. We are a small an
 d committed congregation faithfully living out our call to worship and ser
 ve God in Dartmouth Park.\n\nOur Mass is sung by our professional choir. W
 e have a number of children and have an active Sunday School. \n\nAll welc
 ome!
GEO:-0.141049;51.559714
LOCATION:St Mary Brookfield
URL:https://www.achurchnearyou.com/church/15595/service-and-events/events/
 511835/
END:VEVENT
BEGIN:VEVENT
SUMMARY:Solemn Mass
DTSTART;TZID=Europe/London:20260517T110000
DTEND;TZID=Europe/London:20260517T121000
DTSTAMP:20260423T144915Z
UID:5118351779012000.0achurchnearyou
CATEGORIES:
DESCRIPTION:Come and join us for our weekly Parish Mass. We are a small an
 d committed congregation faithfully living out our call to worship and ser
 ve God in Dartmouth Park.\n\nOur Mass is sung by our professional choir. W
 e have a number of children and have an active Sunday School. \n\nAll welc
 ome!
GEO:-0.141049;51.559714
LOCATION:St Mary Brookfield
URL:https://www.achurchnearyou.com/church/15595/service-and-events/events/
 511835/
END:VEVENT
BEGIN:VEVENT
SUMMARY:Solemn Mass
DTSTART;TZID=Europe/London:20260524T110000
DTEND;TZID=Europe/London:20260524T121000
DTSTAMP:20260423T144915Z
UID:5118351779616800.0achurchnearyou
CATEGORIES:
DESCRIPTION:Come and join us for our weekly Parish Mass. We are a small an
 d committed congregation faithfully living out our call to worship and ser
 ve God in Dartmouth Park.\n\nOur Mass is sung by our professional choir. W
 e have a number of children and have an active Sunday School. \n\nAll welc
 ome!
GEO:-0.141049;51.559714
LOCATION:St Mary Brookfield
URL:https://www.achurchnearyou.com/church/15595/service-and-events/events/
 511835/
END:VEVENT
BEGIN:VEVENT
SUMMARY:Solemn Mass
DTSTART;TZID=Europe/London:20260531T110000
DTEND;TZID=Europe/London:20260531T121000
DTSTAMP:20260423T144915Z
UID:5118351780221600.0achurchnearyou
CATEGORIES:
DESCRIPTION:Come and join us for our weekly Parish Mass. We are a small an
 d committed congregation faithfully living out our call to worship and ser
 ve God in Dartmouth Park.\n\nOur Mass is sung by our professional choir. W
 e have a number of children and have an active Sunday School. \n\nAll welc
 ome!
GEO:-0.141049;51.559714
LOCATION:St Mary Brookfield
URL:https://www.achurchnearyou.com/church/15595/service-and-events/events/
 511835/
END:VEVENT
BEGIN:VEVENT
SUMMARY:Solemn Mass
DTSTART;TZID=Europe/London:20260607T110000
DTEND;TZID=Europe/London:20260607T121000
DTSTAMP:20260423T144915Z
UID:5118351780826400.0achurchnearyou
CATEGORIES:
DESCRIPTION:Come and join us for our weekly Parish Mass. We are a small an
 d committed congregation faithfully living out our call to worship and ser
 ve God in Dartmouth Park.\n\nOur Mass is sung by our professional choir. W
 e have a number of children and have an active Sunday School. \n\nAll welc
 ome!
GEO:-0.141049;51.559714
LOCATION:St Mary Brookfield
URL:https://www.achurchnearyou.com/church/15595/service-and-events/events/
 511835/
END:VEVENT
BEGIN:VEVENT
SUMMARY:Solemn Mass
DTSTART;TZID=Europe/London:20260614T110000
DTEND;TZID=Europe/London:20260614T121000
DTSTAMP:20260423T144915Z
UID:5118351781431200.0achurchnearyou
CATEGORIES:
DESCRIPTION:Come and join us for our weekly Parish Mass. We are a small an
 d committed congregation faithfully living out our call to worship and ser
 ve God in Dartmouth Park.\n\nOur Mass is sung by our professional choir. W
 e have a number of children and have an active Sunday School. \n\nAll welc
 ome!
GEO:-0.141049;51.559714
LOCATION:St Mary Brookfield
URL:https://www.achurchnearyou.com/church/15595/service-and-events/events/
 511835/
END:VEVENT
BEGIN:VEVENT
SUMMARY:Solemn Mass
DTSTART;TZID=Europe/London:20260621T110000
DTEND;TZID=Europe/London:20260621T121000
DTSTAMP:20260423T144915Z
UID:5118351782036000.0achurchnearyou
CATEGORIES:
DESCRIPTION:Come and join us for our weekly Parish Mass. We are a small an
 d committed congregation faithfully living out our call to worship and ser
 ve God in Dartmouth Park.\n\nOur Mass is sung by our professional choir. W
 e have a number of children and have an active Sunday School. \n\nAll welc
 ome!
GEO:-0.141049;51.559714
LOCATION:St Mary Brookfield
URL:https://www.achurchnearyou.com/church/15595/service-and-events/events/
 511835/
END:VEVENT
BEGIN:VEVENT
SUMMARY:Solemn Mass
DTSTART;TZID=Europe/London:20260628T110000
DTEND;TZID=Europe/London:20260628T121000
DTSTAMP:20260423T144915Z
UID:5118351782640800.0achurchnearyou
CATEGORIES:
DESCRIPTION:Come and join us for our weekly Parish Mass. We are a small an
 d committed congregation faithfully living out our call to worship and ser
 ve God in Dartmouth Park.\n\nOur Mass is sung by our professional choir. W
 e have a number of children and have an active Sunday School. \n\nAll welc
 ome!
GEO:-0.141049;51.559714
LOCATION:St Mary Brookfield
URL:https://www.achurchnearyou.com/church/15595/service-and-events/events/
 511835/
END:VEVENT
BEGIN:VEVENT
SUMMARY:Solemn Mass
DTSTART;TZID=Europe/London:20260705T110000
DTEND;TZID=Europe/London:20260705T121000
DTSTAMP:20260423T144915Z
UID:5118351783245600.0achurchnearyou
CATEGORIES:
DESCRIPTION:Come and join us for our weekly Parish Mass. We are a small an
 d committed congregation faithfully living out our call to worship and ser
 ve God in Dartmouth Park.\n\nOur Mass is sung by our professional choir. W
 e have a number of children and have an active Sunday School. \n\nAll welc
 ome!
GEO:-0.141049;51.559714
LOCATION:St Mary Brookfield
URL:https://www.achurchnearyou.com/church/15595/service-and-events/events/
 511835/
END:VEVENT
BEGIN:VEVENT
SUMMARY:Solemn Mass
DTSTART;TZID=Europe/London:20260712T110000
DTEND;TZID=Europe/London:20260712T121000
DTSTAMP:20260423T144915Z
UID:5118351783850400.0achurchnearyou
CATEGORIES:
DESCRIPTION:Come and join us for our weekly Parish Mass. We are a small an
 d committed congregation faithfully living out our call to worship and ser
 ve God in Dartmouth Park.\n\nOur Mass is sung by our professional choir. W
 e have a number of children and have an active Sunday School. \n\nAll welc
 ome!
GEO:-0.141049;51.559714
LOCATION:St Mary Brookfield
URL:https://www.achurchnearyou.com/church/15595/service-and-events/events/
 511835/
END:VEVENT
BEGIN:VEVENT
SUMMARY:Solemn Mass
DTSTART;TZID=Europe/London:20260719T110000
DTEND;TZID=Europe/London:20260719T121000
DTSTAMP:20260423T144915Z
UID:5118351784455200.0achurchnearyou
CATEGORIES:
DESCRIPTION:Come and join us for our weekly Parish Mass. We are a small an
 d committed congregation faithfully living out our call to worship and ser
 ve God in Dartmouth Park.\n\nOur Mass is sung by our professional choir. W
 e have a number of children and have an active Sunday School. \n\nAll welc
 ome!
GEO:-0.141049;51.559714
LOCATION:St Mary Brookfield
URL:https://www.achurchnearyou.com/church/15595/service-and-events/events/
 511835/
END:VEVENT
BEGIN:VEVENT
SUMMARY:Solemn Mass
DTSTART;TZID=Europe/London:20260726T110000
DTEND;TZID=Europe/London:20260726T121000
DTSTAMP:20260423T144915Z
UID:5118351785060000.0achurchnearyou
CATEGORIES:
DESCRIPTION:Come and join us for our weekly Parish Mass. We are a small an
 d committed congregation faithfully living out our call to worship and ser
 ve God in Dartmouth Park.\n\nOur Mass is sung by our professional choir. W
 e have a number of children and have an active Sunday School. \n\nAll welc
 ome!
GEO:-0.141049;51.559714
LOCATION:St Mary Brookfield
URL:https://www.achurchnearyou.com/church/15595/service-and-events/events/
 511835/
END:VEVENT
BEGIN:VEVENT
SUMMARY:Solemn Mass
DTSTART;TZID=Europe/London:20260802T110000
DTEND;TZID=Europe/London:20260802T121000
DTSTAMP:20260423T144915Z
UID:5118351785664800.0achurchnearyou
CATEGORIES:
DESCRIPTION:Come and join us for our weekly Parish Mass. We are a small an
 d committed congregation faithfully living out our call to worship and ser
 ve God in Dartmouth Park.\n\nOur Mass is sung by our professional choir. W
 e have a number of children and have an active Sunday School. \n\nAll welc
 ome!
GEO:-0.141049;51.559714
LOCATION:St Mary Brookfield
URL:https://www.achurchnearyou.com/church/15595/service-and-events/events/
 511835/
END:VEVENT
BEGIN:VEVENT
SUMMARY:Solemn Mass
DTSTART;TZID=Europe/London:20260809T110000
DTEND;TZID=Europe/London:20260809T121000
DTSTAMP:20260423T144915Z
UID:5118351786269600.0achurchnearyou
CATEGORIES:
DESCRIPTION:Come and join us for our weekly Parish Mass. We are a small an
 d committed congregation faithfully living out our call to worship and ser
 ve God in Dartmouth Park.\n\nOur Mass is sung by our professional choir. W
 e have a number of children and have an active Sunday School. \n\nAll welc
 ome!
GEO:-0.141049;51.559714
LOCATION:St Mary Brookfield
URL:https://www.achurchnearyou.com/church/15595/service-and-events/events/
 511835/
END:VEVENT
BEGIN:VEVENT
SUMMARY:Solemn Mass
DTSTART;TZID=Europe/London:20260816T110000
DTEND;TZID=Europe/London:20260816T121000
DTSTAMP:20260423T144915Z
UID:5118351786874400.0achurchnearyou
CATEGORIES:
DESCRIPTION:Come and join us for our weekly Parish Mass. We are a small an
 d committed congregation faithfully living out our call to worship and ser
 ve God in Dartmouth Park.\n\nOur Mass is sung by our professional choir. W
 e have a number of children and have an active Sunday School. \n\nAll welc
 ome!
GEO:-0.141049;51.559714
LOCATION:St Mary Brookfield
URL:https://www.achurchnearyou.com/church/15595/service-and-events/events/
 511835/
END:VEVENT
BEGIN:VEVENT
SUMMARY:Solemn Mass
DTSTART;TZID=Europe/London:20260823T110000
DTEND;TZID=Europe/London:20260823T121000
DTSTAMP:20260423T144915Z
UID:5118351787479200.0achurchnearyou
CATEGORIES:
DESCRIPTION:Come and join us for our weekly Parish Mass. We are a small an
 d committed congregation faithfully living out our call to worship and ser
 ve God in Dartmouth Park.\n\nOur Mass is sung by our professional choir. W
 e have a number of children and have an active Sunday School. \n\nAll welc
 ome!
GEO:-0.141049;51.559714
LOCATION:St Mary Brookfield
URL:https://www.achurchnearyou.com/church/15595/service-and-events/events/
 511835/
END:VEVENT
BEGIN:VEVENT
SUMMARY:Solemn Mass
DTSTART;TZID=Europe/London:20260830T110000
DTEND;TZID=Europe/London:20260830T121000
DTSTAMP:20260423T144915Z
UID:5118351788084000.0achurchnearyou
CATEGORIES:
DESCRIPTION:Come and join us for our weekly Parish Mass. We are a small an
 d committed congregation faithfully living out our call to worship and ser
 ve God in Dartmouth Park.\n\nOur Mass is sung by our professional choir. W
 e have a number of children and have an active Sunday School. \n\nAll welc
 ome!
GEO:-0.141049;51.559714
LOCATION:St Mary Brookfield
URL:https://www.achurchnearyou.com/church/15595/service-and-events/events/
 511835/
END:VEVENT
BEGIN:VEVENT
SUMMARY:Solemn Mass
DTSTART;TZID=Europe/London:20260906T110000
DTEND;TZID=Europe/London:20260906T121000
DTSTAMP:20260423T144915Z
UID:5118351788688800.0achurchnearyou
CATEGORIES:
DESCRIPTION:Come and join us for our weekly Parish Mass. We are a small an
 d committed congregation faithfully living out our call to worship and ser
 ve God in Dartmouth Park.\n\nOur Mass is sung by our professional choir. W
 e have a number of children and have an active Sunday School. \n\nAll welc
 ome!
GEO:-0.141049;51.559714
LOCATION:St Mary Brookfield
URL:https://www.achurchnearyou.com/church/15595/service-and-events/events/
 511835/
END:VEVENT
BEGIN:VEVENT
SUMMARY:Solemn Mass
DTSTART;TZID=Europe/London:20260913T110000
DTEND;TZID=Europe/London:20260913T121000
DTSTAMP:20260423T144915Z
UID:5118351789293600.0achurchnearyou
CATEGORIES:
DESCRIPTION:Come and join us for our weekly Parish Mass. We are a small an
 d committed congregation faithfully living out our call to worship and ser
 ve God in Dartmouth Park.\n\nOur Mass is sung by our professional choir. W
 e have a number of children and have an active Sunday School. \n\nAll welc
 ome!
GEO:-0.141049;51.559714
LOCATION:St Mary Brookfield
URL:https://www.achurchnearyou.com/church/15595/service-and-events/events/
 511835/
END:VEVENT
BEGIN:VEVENT
SUMMARY:Solemn Mass
DTSTART;TZID=Europe/London:20260920T110000
DTEND;TZID=Europe/London:20260920T121000
DTSTAMP:20260423T144915Z
UID:5118351789898400.0achurchnearyou
CATEGORIES:
DESCRIPTION:Come and join us for our weekly Parish Mass. We are a small an
 d committed congregation faithfully living out our call to worship and ser
 ve God in Dartmouth Park.\n\nOur Mass is sung by our professional choir. W
 e have a number of children and have an active Sunday School. \n\nAll welc
 ome!
GEO:-0.141049;51.559714
LOCATION:St Mary Brookfield
URL:https://www.achurchnearyou.com/church/15595/service-and-events/events/
 511835/
END:VEVENT
BEGIN:VEVENT
SUMMARY:Solemn Mass
DTSTART;TZID=Europe/London:20260927T110000
DTEND;TZID=Europe/London:20260927T121000
DTSTAMP:20260423T144915Z
UID:5118351790503200.0achurchnearyou
CATEGORIES:
DESCRIPTION:Come and join us for our weekly Parish Mass. We are a small an
 d committed congregation faithfully living out our call to worship and ser
 ve God in Dartmouth Park.\n\nOur Mass is sung by our professional choir. W
 e have a number of children and have an active Sunday School. \n\nAll welc
 ome!
GEO:-0.141049;51.559714
LOCATION:St Mary Brookfield
URL:https://www.achurchnearyou.com/church/15595/service-and-events/events/
 511835/
END:VEVENT
END:VCALENDAR
