BEGIN:VCALENDAR
VERSION:2.0
PRODID:-//achurchnearyou.com//eventfeed//EN
CALSCALE:GREGORIAN
METHOD:PUBLISH
X-WR-TIMEZONE:UTC
BEGIN:VEVENT
SUMMARY:Christmas Eve Christingle
DTSTART:20251224T160000Z
DTEND:20251224T170000Z
DTSTAMP:20260422T030950Z
UID:12758072025-12-24 16:00:00+00:00achurchnearyou
CATEGORIES:
DESCRIPTION:All are welcome to our all age service
GEO:-0.122448;51.520929
LOCATION:St George the Martyr Church (SGTM)
URL:https://sgtm.org/christmas/
END:VEVENT
END:VCALENDAR
