BEGIN:VCALENDAR
VERSION:2.0
PRODID:-//achurchnearyou.com//eventfeed//EN
CALSCALE:GREGORIAN
METHOD:PUBLISH
X-WR-TIMEZONE:UTC
BEGIN:VEVENT
SUMMARY:Christmas Day
DTSTART:20251225T110000Z
DTEND:20251225T123000Z
DTSTAMP:20260422T030115Z
UID:12758082025-12-25 11:00:00+00:00achurchnearyou
CATEGORIES:
DESCRIPTION:Come and rejoice with us as we celebrate Christmas\n Bucks Fiz
 z and mince pies after the service
GEO:-0.122448;51.520929
LOCATION:St George the Martyr Church (SGTM)
URL:https://sgtm.org/christmas/
END:VEVENT
END:VCALENDAR
