BEGIN:VCALENDAR
VERSION:2.0
PRODID:-//achurchnearyou.com//eventfeed//EN
CALSCALE:GREGORIAN
METHOD:PUBLISH
X-WR-TIMEZONE:UTC
BEGIN:VEVENT
SUMMARY:Maundy Thursday
DTSTART:20260402T180000Z
DTEND:20260402T190000Z
DTSTAMP:20260424T120922Z
UID:13119142026-04-02 18:00:00+00:00achurchnearyou
CATEGORIES:
DESCRIPTION:Mass of the Lord's Supper\, followed by the Stripping of the A
 ltar
GEO:-0.134583;51.531307
LOCATION:St Mary's Church\, Somers Town
URL:https://www.achurchnearyou.com/church/15605/service-and-events/events/
 1311914/
END:VEVENT
END:VCALENDAR
