BEGIN:VCALENDAR
VERSION:2.0
PRODID:-//achurchnearyou.com//eventfeed//EN
CALSCALE:GREGORIAN
METHOD:PUBLISH
X-WR-TIMEZONE:UTC
BEGIN:VEVENT
SUMMARY:Easter Communion Service
DTSTART:20260405T090000Z
DTEND:20260405T101500Z
DTSTAMP:20260423T134219Z
UID:13085422026-04-05 09:00:00+00:00achurchnearyou
CATEGORIES:
DESCRIPTION:Join us as we joyfully share in Jesus' resurrection as we rejo
 ice with song and prayer.
GEO:-0.065821;51.625763
LOCATION:All Saints Edmonton
URL:https://www.achurchnearyou.com/church/15610/service-and-events/events/
 1308542/
END:VEVENT
END:VCALENDAR
