BEGIN:VCALENDAR
VERSION:2.0
PRODID:-//achurchnearyou.com//eventfeed//EN
CALSCALE:GREGORIAN
METHOD:PUBLISH
X-WR-TIMEZONE:UTC
BEGIN:VEVENT
SUMMARY:St Peter's Youth Group
DTSTART;TZID=Europe/London:20260424T180000
DTEND;TZID=Europe/London:20260424T200000
DTSTAMP:20260421T113011Z
UID:9026782026-04-24 18:00:00+01:00achurchnearyou
CATEGORIES:
DESCRIPTION:All young people are welcome to come and take part in cooking\
 , games and discussion at our youth group.  We begin in the church hall an
 d then go over to the church.  In the summer we play football int he vicar
 age garden and sometimes we watch films or other events\, including the 20
 22 World Cup.  We run this group so young people have a safe place to go\,
  to make friends and to feel part of a community.  All leaders are DBS che
 cked and have undergone safe guarding training up to and including leaders
 hip level.
GEO:-0.050649;51.628489
LOCATION:St Peter's Church\, Lower Edmonton
URL:https://www.achurchnearyou.com/church/15616/service-and-events/events/
 902678/
END:VEVENT
BEGIN:VEVENT
SUMMARY:St Peter's Youth Group
DTSTART;TZID=Europe/London:20260529T180000
DTEND;TZID=Europe/London:20260529T200000
DTSTAMP:20260421T113011Z
UID:9026782026-05-29 18:00:00+01:00achurchnearyou
CATEGORIES:
DESCRIPTION:All young people are welcome to come and take part in cooking\
 , games and discussion at our youth group.  We begin in the church hall an
 d then go over to the church.  In the summer we play football int he vicar
 age garden and sometimes we watch films or other events\, including the 20
 22 World Cup.  We run this group so young people have a safe place to go\,
  to make friends and to feel part of a community.  All leaders are DBS che
 cked and have undergone safe guarding training up to and including leaders
 hip level.
GEO:-0.050649;51.628489
LOCATION:St Peter's Church\, Lower Edmonton
URL:https://www.achurchnearyou.com/church/15616/service-and-events/events/
 902678/
END:VEVENT
BEGIN:VEVENT
SUMMARY:St Peter's Youth Group
DTSTART;TZID=Europe/London:20260626T180000
DTEND;TZID=Europe/London:20260626T200000
DTSTAMP:20260421T113011Z
UID:9026782026-06-26 18:00:00+01:00achurchnearyou
CATEGORIES:
DESCRIPTION:All young people are welcome to come and take part in cooking\
 , games and discussion at our youth group.  We begin in the church hall an
 d then go over to the church.  In the summer we play football int he vicar
 age garden and sometimes we watch films or other events\, including the 20
 22 World Cup.  We run this group so young people have a safe place to go\,
  to make friends and to feel part of a community.  All leaders are DBS che
 cked and have undergone safe guarding training up to and including leaders
 hip level.
GEO:-0.050649;51.628489
LOCATION:St Peter's Church\, Lower Edmonton
URL:https://www.achurchnearyou.com/church/15616/service-and-events/events/
 902678/
END:VEVENT
BEGIN:VEVENT
SUMMARY:St Peter's Youth Group
DTSTART;TZID=Europe/London:20260731T180000
DTEND;TZID=Europe/London:20260731T200000
DTSTAMP:20260421T113011Z
UID:9026782026-07-31 18:00:00+01:00achurchnearyou
CATEGORIES:
DESCRIPTION:All young people are welcome to come and take part in cooking\
 , games and discussion at our youth group.  We begin in the church hall an
 d then go over to the church.  In the summer we play football int he vicar
 age garden and sometimes we watch films or other events\, including the 20
 22 World Cup.  We run this group so young people have a safe place to go\,
  to make friends and to feel part of a community.  All leaders are DBS che
 cked and have undergone safe guarding training up to and including leaders
 hip level.
GEO:-0.050649;51.628489
LOCATION:St Peter's Church\, Lower Edmonton
URL:https://www.achurchnearyou.com/church/15616/service-and-events/events/
 902678/
END:VEVENT
BEGIN:VEVENT
SUMMARY:St Peter's Youth Group
DTSTART;TZID=Europe/London:20260828T180000
DTEND;TZID=Europe/London:20260828T200000
DTSTAMP:20260421T113011Z
UID:9026782026-08-28 18:00:00+01:00achurchnearyou
CATEGORIES:
DESCRIPTION:All young people are welcome to come and take part in cooking\
 , games and discussion at our youth group.  We begin in the church hall an
 d then go over to the church.  In the summer we play football int he vicar
 age garden and sometimes we watch films or other events\, including the 20
 22 World Cup.  We run this group so young people have a safe place to go\,
  to make friends and to feel part of a community.  All leaders are DBS che
 cked and have undergone safe guarding training up to and including leaders
 hip level.
GEO:-0.050649;51.628489
LOCATION:St Peter's Church\, Lower Edmonton
URL:https://www.achurchnearyou.com/church/15616/service-and-events/events/
 902678/
END:VEVENT
BEGIN:VEVENT
SUMMARY:St Peter's Youth Group
DTSTART;TZID=Europe/London:20260925T180000
DTEND;TZID=Europe/London:20260925T200000
DTSTAMP:20260421T113011Z
UID:9026782026-09-25 18:00:00+01:00achurchnearyou
CATEGORIES:
DESCRIPTION:All young people are welcome to come and take part in cooking\
 , games and discussion at our youth group.  We begin in the church hall an
 d then go over to the church.  In the summer we play football int he vicar
 age garden and sometimes we watch films or other events\, including the 20
 22 World Cup.  We run this group so young people have a safe place to go\,
  to make friends and to feel part of a community.  All leaders are DBS che
 cked and have undergone safe guarding training up to and including leaders
 hip level.
GEO:-0.050649;51.628489
LOCATION:St Peter's Church\, Lower Edmonton
URL:https://www.achurchnearyou.com/church/15616/service-and-events/events/
 902678/
END:VEVENT
BEGIN:VEVENT
SUMMARY:St Peter's Youth Group
DTSTART;TZID=Europe/London:20261030T180000
DTEND;TZID=Europe/London:20261030T200000
DTSTAMP:20260421T113011Z
UID:9026782026-10-30 18:00:00+00:00achurchnearyou
CATEGORIES:
DESCRIPTION:All young people are welcome to come and take part in cooking\
 , games and discussion at our youth group.  We begin in the church hall an
 d then go over to the church.  In the summer we play football int he vicar
 age garden and sometimes we watch films or other events\, including the 20
 22 World Cup.  We run this group so young people have a safe place to go\,
  to make friends and to feel part of a community.  All leaders are DBS che
 cked and have undergone safe guarding training up to and including leaders
 hip level.
GEO:-0.050649;51.628489
LOCATION:St Peter's Church\, Lower Edmonton
URL:https://www.achurchnearyou.com/church/15616/service-and-events/events/
 902678/
END:VEVENT
BEGIN:VEVENT
SUMMARY:St Peter's Youth Group
DTSTART;TZID=Europe/London:20261127T180000
DTEND;TZID=Europe/London:20261127T200000
DTSTAMP:20260421T113011Z
UID:9026782026-11-27 18:00:00+00:00achurchnearyou
CATEGORIES:
DESCRIPTION:All young people are welcome to come and take part in cooking\
 , games and discussion at our youth group.  We begin in the church hall an
 d then go over to the church.  In the summer we play football int he vicar
 age garden and sometimes we watch films or other events\, including the 20
 22 World Cup.  We run this group so young people have a safe place to go\,
  to make friends and to feel part of a community.  All leaders are DBS che
 cked and have undergone safe guarding training up to and including leaders
 hip level.
GEO:-0.050649;51.628489
LOCATION:St Peter's Church\, Lower Edmonton
URL:https://www.achurchnearyou.com/church/15616/service-and-events/events/
 902678/
END:VEVENT
BEGIN:VEVENT
SUMMARY:St Peter's Youth Group
DTSTART;TZID=Europe/London:20261225T180000
DTEND;TZID=Europe/London:20261225T200000
DTSTAMP:20260421T113011Z
UID:9026782026-12-25 18:00:00+00:00achurchnearyou
CATEGORIES:
DESCRIPTION:All young people are welcome to come and take part in cooking\
 , games and discussion at our youth group.  We begin in the church hall an
 d then go over to the church.  In the summer we play football int he vicar
 age garden and sometimes we watch films or other events\, including the 20
 22 World Cup.  We run this group so young people have a safe place to go\,
  to make friends and to feel part of a community.  All leaders are DBS che
 cked and have undergone safe guarding training up to and including leaders
 hip level.
GEO:-0.050649;51.628489
LOCATION:St Peter's Church\, Lower Edmonton
URL:https://www.achurchnearyou.com/church/15616/service-and-events/events/
 902678/
END:VEVENT
BEGIN:VEVENT
SUMMARY:St Peter's Youth Group
DTSTART;TZID=Europe/London:20270129T180000
DTEND;TZID=Europe/London:20270129T200000
DTSTAMP:20260421T113011Z
UID:9026782027-01-29 18:00:00+00:00achurchnearyou
CATEGORIES:
DESCRIPTION:All young people are welcome to come and take part in cooking\
 , games and discussion at our youth group.  We begin in the church hall an
 d then go over to the church.  In the summer we play football int he vicar
 age garden and sometimes we watch films or other events\, including the 20
 22 World Cup.  We run this group so young people have a safe place to go\,
  to make friends and to feel part of a community.  All leaders are DBS che
 cked and have undergone safe guarding training up to and including leaders
 hip level.
GEO:-0.050649;51.628489
LOCATION:St Peter's Church\, Lower Edmonton
URL:https://www.achurchnearyou.com/church/15616/service-and-events/events/
 902678/
END:VEVENT
BEGIN:VEVENT
SUMMARY:St Peter's Youth Group
DTSTART;TZID=Europe/London:20270226T180000
DTEND;TZID=Europe/London:20270226T200000
DTSTAMP:20260421T113011Z
UID:9026782027-02-26 18:00:00+00:00achurchnearyou
CATEGORIES:
DESCRIPTION:All young people are welcome to come and take part in cooking\
 , games and discussion at our youth group.  We begin in the church hall an
 d then go over to the church.  In the summer we play football int he vicar
 age garden and sometimes we watch films or other events\, including the 20
 22 World Cup.  We run this group so young people have a safe place to go\,
  to make friends and to feel part of a community.  All leaders are DBS che
 cked and have undergone safe guarding training up to and including leaders
 hip level.
GEO:-0.050649;51.628489
LOCATION:St Peter's Church\, Lower Edmonton
URL:https://www.achurchnearyou.com/church/15616/service-and-events/events/
 902678/
END:VEVENT
BEGIN:VEVENT
SUMMARY:St Peter's Youth Group
DTSTART;TZID=Europe/London:20270326T180000
DTEND;TZID=Europe/London:20270326T200000
DTSTAMP:20260421T113011Z
UID:9026782027-03-26 18:00:00+00:00achurchnearyou
CATEGORIES:
DESCRIPTION:All young people are welcome to come and take part in cooking\
 , games and discussion at our youth group.  We begin in the church hall an
 d then go over to the church.  In the summer we play football int he vicar
 age garden and sometimes we watch films or other events\, including the 20
 22 World Cup.  We run this group so young people have a safe place to go\,
  to make friends and to feel part of a community.  All leaders are DBS che
 cked and have undergone safe guarding training up to and including leaders
 hip level.
GEO:-0.050649;51.628489
LOCATION:St Peter's Church\, Lower Edmonton
URL:https://www.achurchnearyou.com/church/15616/service-and-events/events/
 902678/
END:VEVENT
END:VCALENDAR
