BEGIN:VCALENDAR
VERSION:2.0
PRODID:-//achurchnearyou.com//eventfeed//EN
CALSCALE:GREGORIAN
METHOD:PUBLISH
X-WR-TIMEZONE:UTC
BEGIN:VEVENT
SUMMARY:Cross-over
DTSTART;TZID=Europe/London:20250907T101500
DTEND;TZID=Europe/London:20250907T111500
DTSTAMP:20260420T191225Z
UID:10927122025-09-07 10:15:00+01:00achurchnearyou
CATEGORIES:
DESCRIPTION:Opportunity for adults and children to attend groups to learn 
 more about living out our faith. Engage groups for adults\, Explore groups
  for those enquiring about faith\, and age related groups for 0-14s. In be
 tween our 2 morning services. Refreshments served\, occassionally we serve
  a brunch for church family. Everyone welcome.
LOCATION:Christ Church House
URL:http://www.cockfosters.church
END:VEVENT
BEGIN:VEVENT
SUMMARY:Cross-over
DTSTART;TZID=Europe/London:20250914T101500
DTEND;TZID=Europe/London:20250914T111500
DTSTAMP:20260420T191225Z
UID:10927122025-09-14 10:15:00+01:00achurchnearyou
CATEGORIES:
DESCRIPTION:Opportunity for adults and children to attend groups to learn 
 more about living out our faith. Engage groups for adults\, Explore groups
  for those enquiring about faith\, and age related groups for 0-14s. In be
 tween our 2 morning services. Refreshments served\, occassionally we serve
  a brunch for church family. Everyone welcome.
LOCATION:Christ Church House
URL:http://www.cockfosters.church
END:VEVENT
BEGIN:VEVENT
SUMMARY:Cross-over
DTSTART;TZID=Europe/London:20250921T101500
DTEND;TZID=Europe/London:20250921T111500
DTSTAMP:20260420T191225Z
UID:10927122025-09-21 10:15:00+01:00achurchnearyou
CATEGORIES:
DESCRIPTION:Opportunity for adults and children to attend groups to learn 
 more about living out our faith. Engage groups for adults\, Explore groups
  for those enquiring about faith\, and age related groups for 0-14s. In be
 tween our 2 morning services. Refreshments served\, occassionally we serve
  a brunch for church family. Everyone welcome.
LOCATION:Christ Church House
URL:http://www.cockfosters.church
END:VEVENT
BEGIN:VEVENT
SUMMARY:Cross-over
DTSTART;TZID=Europe/London:20250928T101500
DTEND;TZID=Europe/London:20250928T111500
DTSTAMP:20260420T191225Z
UID:10927122025-09-28 10:15:00+01:00achurchnearyou
CATEGORIES:
DESCRIPTION:Opportunity for adults and children to attend groups to learn 
 more about living out our faith. Engage groups for adults\, Explore groups
  for those enquiring about faith\, and age related groups for 0-14s. In be
 tween our 2 morning services. Refreshments served\, occassionally we serve
  a brunch for church family. Everyone welcome.
LOCATION:Christ Church House
URL:http://www.cockfosters.church
END:VEVENT
BEGIN:VEVENT
SUMMARY:Cross-over
DTSTART;TZID=Europe/London:20251005T101500
DTEND;TZID=Europe/London:20251005T111500
DTSTAMP:20260420T191225Z
UID:10927122025-10-05 10:15:00+01:00achurchnearyou
CATEGORIES:
DESCRIPTION:Opportunity for adults and children to attend groups to learn 
 more about living out our faith. Engage groups for adults\, Explore groups
  for those enquiring about faith\, and age related groups for 0-14s. In be
 tween our 2 morning services. Refreshments served\, occassionally we serve
  a brunch for church family. Everyone welcome.
LOCATION:Christ Church House
URL:http://www.cockfosters.church
END:VEVENT
BEGIN:VEVENT
SUMMARY:Cross-over
DTSTART;TZID=Europe/London:20251012T101500
DTEND;TZID=Europe/London:20251012T111500
DTSTAMP:20260420T191225Z
UID:10927122025-10-12 10:15:00+01:00achurchnearyou
CATEGORIES:
DESCRIPTION:Opportunity for adults and children to attend groups to learn 
 more about living out our faith. Engage groups for adults\, Explore groups
  for those enquiring about faith\, and age related groups for 0-14s. In be
 tween our 2 morning services. Refreshments served\, occassionally we serve
  a brunch for church family. Everyone welcome.
LOCATION:Christ Church House
URL:http://www.cockfosters.church
END:VEVENT
BEGIN:VEVENT
SUMMARY:Cross-over
DTSTART;TZID=Europe/London:20251019T101500
DTEND;TZID=Europe/London:20251019T111500
DTSTAMP:20260420T191225Z
UID:10927122025-10-19 10:15:00+01:00achurchnearyou
CATEGORIES:
DESCRIPTION:Opportunity for adults and children to attend groups to learn 
 more about living out our faith. Engage groups for adults\, Explore groups
  for those enquiring about faith\, and age related groups for 0-14s. In be
 tween our 2 morning services. Refreshments served\, occassionally we serve
  a brunch for church family. Everyone welcome.
LOCATION:Christ Church House
URL:http://www.cockfosters.church
END:VEVENT
BEGIN:VEVENT
SUMMARY:Cross-over
DTSTART;TZID=Europe/London:20251026T101500
DTEND;TZID=Europe/London:20251026T111500
DTSTAMP:20260420T191225Z
UID:10927122025-10-26 10:15:00+00:00achurchnearyou
CATEGORIES:
DESCRIPTION:Opportunity for adults and children to attend groups to learn 
 more about living out our faith. Engage groups for adults\, Explore groups
  for those enquiring about faith\, and age related groups for 0-14s. In be
 tween our 2 morning services. Refreshments served\, occassionally we serve
  a brunch for church family. Everyone welcome.
LOCATION:Christ Church House
URL:http://www.cockfosters.church
END:VEVENT
BEGIN:VEVENT
SUMMARY:Cross-over
DTSTART;TZID=Europe/London:20251102T101500
DTEND;TZID=Europe/London:20251102T111500
DTSTAMP:20260420T191225Z
UID:10927122025-11-02 10:15:00+00:00achurchnearyou
CATEGORIES:
DESCRIPTION:Opportunity for adults and children to attend groups to learn 
 more about living out our faith. Engage groups for adults\, Explore groups
  for those enquiring about faith\, and age related groups for 0-14s. In be
 tween our 2 morning services. Refreshments served\, occassionally we serve
  a brunch for church family. Everyone welcome.
LOCATION:Christ Church House
URL:http://www.cockfosters.church
END:VEVENT
BEGIN:VEVENT
SUMMARY:Cross-over
DTSTART;TZID=Europe/London:20251109T101500
DTEND;TZID=Europe/London:20251109T111500
DTSTAMP:20260420T191225Z
UID:10927122025-11-09 10:15:00+00:00achurchnearyou
CATEGORIES:
DESCRIPTION:Opportunity for adults and children to attend groups to learn 
 more about living out our faith. Engage groups for adults\, Explore groups
  for those enquiring about faith\, and age related groups for 0-14s. In be
 tween our 2 morning services. Refreshments served\, occassionally we serve
  a brunch for church family. Everyone welcome.
LOCATION:Christ Church House
URL:http://www.cockfosters.church
END:VEVENT
BEGIN:VEVENT
SUMMARY:Cross-over
DTSTART;TZID=Europe/London:20251116T101500
DTEND;TZID=Europe/London:20251116T111500
DTSTAMP:20260420T191225Z
UID:10927122025-11-16 10:15:00+00:00achurchnearyou
CATEGORIES:
DESCRIPTION:Opportunity for adults and children to attend groups to learn 
 more about living out our faith. Engage groups for adults\, Explore groups
  for those enquiring about faith\, and age related groups for 0-14s. In be
 tween our 2 morning services. Refreshments served\, occassionally we serve
  a brunch for church family. Everyone welcome.
LOCATION:Christ Church House
URL:http://www.cockfosters.church
END:VEVENT
BEGIN:VEVENT
SUMMARY:Cross-over
DTSTART;TZID=Europe/London:20251123T101500
DTEND;TZID=Europe/London:20251123T111500
DTSTAMP:20260420T191225Z
UID:10927122025-11-23 10:15:00+00:00achurchnearyou
CATEGORIES:
DESCRIPTION:Opportunity for adults and children to attend groups to learn 
 more about living out our faith. Engage groups for adults\, Explore groups
  for those enquiring about faith\, and age related groups for 0-14s. In be
 tween our 2 morning services. Refreshments served\, occassionally we serve
  a brunch for church family. Everyone welcome.
LOCATION:Christ Church House
URL:http://www.cockfosters.church
END:VEVENT
BEGIN:VEVENT
SUMMARY:Cross-over
DTSTART;TZID=Europe/London:20251130T101500
DTEND;TZID=Europe/London:20251130T111500
DTSTAMP:20260420T191225Z
UID:10927122025-11-30 10:15:00+00:00achurchnearyou
CATEGORIES:
DESCRIPTION:Opportunity for adults and children to attend groups to learn 
 more about living out our faith. Engage groups for adults\, Explore groups
  for those enquiring about faith\, and age related groups for 0-14s. In be
 tween our 2 morning services. Refreshments served\, occassionally we serve
  a brunch for church family. Everyone welcome.
LOCATION:Christ Church House
URL:http://www.cockfosters.church
END:VEVENT
BEGIN:VEVENT
SUMMARY:Cross-over
DTSTART;TZID=Europe/London:20251207T101500
DTEND;TZID=Europe/London:20251207T111500
DTSTAMP:20260420T191225Z
UID:10927122025-12-07 10:15:00+00:00achurchnearyou
CATEGORIES:
DESCRIPTION:Opportunity for adults and children to attend groups to learn 
 more about living out our faith. Engage groups for adults\, Explore groups
  for those enquiring about faith\, and age related groups for 0-14s. In be
 tween our 2 morning services. Refreshments served\, occassionally we serve
  a brunch for church family. Everyone welcome.
LOCATION:Christ Church House
URL:http://www.cockfosters.church
END:VEVENT
END:VCALENDAR
