BEGIN:VCALENDAR
VERSION:2.0
PRODID:-//achurchnearyou.com//eventfeed//EN
CALSCALE:GREGORIAN
METHOD:PUBLISH
X-WR-TIMEZONE:UTC
BEGIN:VEVENT
SUMMARY:Easter Sunday Celebration 9.15 & 11.30am
DTSTART:20250420T081500Z
DTEND:20250420T091500Z
DTSTAMP:20260421T105229Z
UID:11898822025-04-20 08:15:00+00:00achurchnearyou
CATEGORIES:
DESCRIPTION:We have two identical 55 minute services to which everyone is 
 welcome as we gather to celebrate Jesus' resurrection!  Suitable for all a
 ges.  In between our services at 10.30am is our Easter Experience in the c
 hurchyard and refreshments.  All welcome.
GEO:-0.152349;51.651584
LOCATION:Christ Church Cockfosters
URL:https://www.cockfosters.church/sundays
END:VEVENT
END:VCALENDAR
