BEGIN:VCALENDAR
VERSION:2.0
PRODID:-//achurchnearyou.com//eventfeed//EN
CALSCALE:GREGORIAN
METHOD:PUBLISH
X-WR-TIMEZONE:UTC
BEGIN:VEVENT
SUMMARY:Good Friday Reflective Service 12pm
DTSTART:20250418T110000Z
DTEND:20250418T120000Z
DTSTAMP:20260421T105328Z
UID:11898892025-04-18 11:00:00+00:00achurchnearyou
CATEGORIES:
DESCRIPTION:An hour's service with 3 gospel readings\, short talks and tim
 e of reflection\, songs led by small choir and Communion.
GEO:-0.152349;51.651584
LOCATION:Christ Church Cockfosters
URL:https://www.cockfosters.church
END:VEVENT
END:VCALENDAR
