BEGIN:VCALENDAR
VERSION:2.0
PRODID:-//achurchnearyou.com//eventfeed//EN
CALSCALE:GREGORIAN
METHOD:PUBLISH
X-WR-TIMEZONE:UTC
BEGIN:VEVENT
SUMMARY:A Christmas Journey 10.30am Service
DTSTART:20251214T103000Z
DTEND:20251214T113000Z
DTSTAMP:20260420T191245Z
UID:12515032025-12-14 10:30:00+00:00achurchnearyou
CATEGORIES:
DESCRIPTION:A 55-minute interactive service retelling the story of the fir
 st Christmas.  Everyone welcome!
GEO:-0.152349;51.651584
LOCATION:Christ Church Cockfosters
URL:https://www.cockfosters.church
END:VEVENT
END:VCALENDAR
