BEGIN:VCALENDAR
VERSION:2.0
PRODID:-//achurchnearyou.com//eventfeed//EN
CALSCALE:GREGORIAN
METHOD:PUBLISH
X-WR-TIMEZONE:UTC
BEGIN:VEVENT
SUMMARY:10.30am Morning Service
DTSTART:20251228T103000Z
DTEND:20251228T113000Z
DTSTAMP:20260420T171600Z
UID:12515152025-12-28 10:30:00+00:00achurchnearyou
CATEGORIES:
DESCRIPTION:Everyone welcome as we take time to give thanks for the year p
 ast\, and for Jesus bringing heaven to earth.
GEO:-0.152349;51.651584
LOCATION:Christ Church Cockfosters
URL:https://www.cockfosters.church
END:VEVENT
END:VCALENDAR
