BEGIN:VCALENDAR
VERSION:2.0
PRODID:-//achurchnearyou.com//eventfeed//EN
CALSCALE:GREGORIAN
METHOD:PUBLISH
X-WR-TIMEZONE:UTC
BEGIN:VEVENT
SUMMARY:A Quiet Advent
DTSTART;TZID=Europe/London:20251201T190000
DTEND;TZID=Europe/London:20251201T200000
DTSTAMP:20260421T185852Z
UID:12607482025-12-01 19:00:00+00:00achurchnearyou
CATEGORIES:
DESCRIPTION:Christian Mediation on Monday evenings during Advent
GEO:-0.084574;51.667496
LOCATION:St Luke
URL:https://www.achurchnearyou.com/church/15625/service-and-events/events/
 1260748/
END:VEVENT
BEGIN:VEVENT
SUMMARY:A Quiet Advent
DTSTART;TZID=Europe/London:20251208T190000
DTEND;TZID=Europe/London:20251208T200000
DTSTAMP:20260421T185852Z
UID:12607482025-12-08 19:00:00+00:00achurchnearyou
CATEGORIES:
DESCRIPTION:Christian Mediation on Monday evenings during Advent
GEO:-0.084574;51.667496
LOCATION:St Luke
URL:https://www.achurchnearyou.com/church/15625/service-and-events/events/
 1260748/
END:VEVENT
BEGIN:VEVENT
SUMMARY:A Quiet Advent
DTSTART;TZID=Europe/London:20251215T190000
DTEND;TZID=Europe/London:20251215T200000
DTSTAMP:20260421T185852Z
UID:12607482025-12-15 19:00:00+00:00achurchnearyou
CATEGORIES:
DESCRIPTION:Christian Mediation on Monday evenings during Advent
GEO:-0.084574;51.667496
LOCATION:St Luke
URL:https://www.achurchnearyou.com/church/15625/service-and-events/events/
 1260748/
END:VEVENT
END:VCALENDAR
