BEGIN:VCALENDAR
VERSION:2.0
PRODID:-//achurchnearyou.com//eventfeed//EN
CALSCALE:GREGORIAN
METHOD:PUBLISH
X-WR-TIMEZONE:UTC
BEGIN:VEVENT
SUMMARY:Nine Lessons and Carols
DTSTART:20251214T180000Z
DTEND:20251214T190000Z
DTSTAMP:20260421T185934Z
UID:12607892025-12-14 18:00:00+00:00achurchnearyou
CATEGORIES:
DESCRIPTION:Join Us for Nine Lessons and Carols\nYou’re warmly invited t
 o a special service of Nine Lessons and Carols on Sunday\, 14th December.\
 nCome and share in the beauty of traditional readings and carols as we cel
 ebrate the Christmas season together.\nAll are welcome to attend.
LOCATION:St John
URL:https://www.achurchnearyou.com/church/15625/service-and-events/events/
 1260789/
END:VEVENT
END:VCALENDAR
