BEGIN:VCALENDAR
VERSION:2.0
PRODID:-//achurchnearyou.com//eventfeed//EN
CALSCALE:GREGORIAN
METHOD:PUBLISH
X-WR-TIMEZONE:UTC
BEGIN:VEVENT
SUMMARY:Sunday Holy Communion @ St Luke's
DTSTART;TZID=Europe/London:20260503T100000
DTEND;TZID=Europe/London:20260503T104000
DTSTAMP:20260421T132028Z
UID:6699262026-05-03 10:00:00+01:00achurchnearyou
CATEGORIES:
DESCRIPTION:This is our main weekly service at St Luke's each week. We gat
 her on Sunday mornings to worship God\, pray for the world\, listen to the
  scriptures\, hear relevant and inspiring teaching\, and finally share the
  meal of Holy Communion\, in which we receive bread and wine which become 
 for us the body and blood of Jesus. All are welcome!
LOCATION:St Luke
URL:https://www.achurchnearyou.com/church/15626/service-and-events/events/
 669926/
END:VEVENT
BEGIN:VEVENT
SUMMARY:Sunday Holy Communion @ St Luke's
DTSTART;TZID=Europe/London:20260517T100000
DTEND;TZID=Europe/London:20260517T104000
DTSTAMP:20260421T132028Z
UID:6699262026-05-17 10:00:00+01:00achurchnearyou
CATEGORIES:
DESCRIPTION:This is our main weekly service at St Luke's each week. We gat
 her on Sunday mornings to worship God\, pray for the world\, listen to the
  scriptures\, hear relevant and inspiring teaching\, and finally share the
  meal of Holy Communion\, in which we receive bread and wine which become 
 for us the body and blood of Jesus. All are welcome!
LOCATION:St Luke
URL:https://www.achurchnearyou.com/church/15626/service-and-events/events/
 669926/
END:VEVENT
BEGIN:VEVENT
SUMMARY:Sunday Holy Communion @ St Luke's
DTSTART;TZID=Europe/London:20260531T100000
DTEND;TZID=Europe/London:20260531T104000
DTSTAMP:20260421T132028Z
UID:6699262026-05-31 10:00:00+01:00achurchnearyou
CATEGORIES:
DESCRIPTION:This is our main weekly service at St Luke's each week. We gat
 her on Sunday mornings to worship God\, pray for the world\, listen to the
  scriptures\, hear relevant and inspiring teaching\, and finally share the
  meal of Holy Communion\, in which we receive bread and wine which become 
 for us the body and blood of Jesus. All are welcome!
LOCATION:St Luke
URL:https://www.achurchnearyou.com/church/15626/service-and-events/events/
 669926/
END:VEVENT
BEGIN:VEVENT
SUMMARY:Sunday Holy Communion @ St Luke's
DTSTART;TZID=Europe/London:20260607T100000
DTEND;TZID=Europe/London:20260607T104000
DTSTAMP:20260421T132028Z
UID:6699262026-06-07 10:00:00+01:00achurchnearyou
CATEGORIES:
DESCRIPTION:This is our main weekly service at St Luke's each week. We gat
 her on Sunday mornings to worship God\, pray for the world\, listen to the
  scriptures\, hear relevant and inspiring teaching\, and finally share the
  meal of Holy Communion\, in which we receive bread and wine which become 
 for us the body and blood of Jesus. All are welcome!
LOCATION:St Luke
URL:https://www.achurchnearyou.com/church/15626/service-and-events/events/
 669926/
END:VEVENT
BEGIN:VEVENT
SUMMARY:Sunday Holy Communion @ St Luke's
DTSTART;TZID=Europe/London:20260621T100000
DTEND;TZID=Europe/London:20260621T104000
DTSTAMP:20260421T132028Z
UID:6699262026-06-21 10:00:00+01:00achurchnearyou
CATEGORIES:
DESCRIPTION:This is our main weekly service at St Luke's each week. We gat
 her on Sunday mornings to worship God\, pray for the world\, listen to the
  scriptures\, hear relevant and inspiring teaching\, and finally share the
  meal of Holy Communion\, in which we receive bread and wine which become 
 for us the body and blood of Jesus. All are welcome!
LOCATION:St Luke
URL:https://www.achurchnearyou.com/church/15626/service-and-events/events/
 669926/
END:VEVENT
BEGIN:VEVENT
SUMMARY:Sunday Holy Communion @ St Luke's
DTSTART;TZID=Europe/London:20260705T100000
DTEND;TZID=Europe/London:20260705T104000
DTSTAMP:20260421T132028Z
UID:6699262026-07-05 10:00:00+01:00achurchnearyou
CATEGORIES:
DESCRIPTION:This is our main weekly service at St Luke's each week. We gat
 her on Sunday mornings to worship God\, pray for the world\, listen to the
  scriptures\, hear relevant and inspiring teaching\, and finally share the
  meal of Holy Communion\, in which we receive bread and wine which become 
 for us the body and blood of Jesus. All are welcome!
LOCATION:St Luke
URL:https://www.achurchnearyou.com/church/15626/service-and-events/events/
 669926/
END:VEVENT
BEGIN:VEVENT
SUMMARY:Sunday Holy Communion @ St Luke's
DTSTART;TZID=Europe/London:20260719T100000
DTEND;TZID=Europe/London:20260719T104000
DTSTAMP:20260421T132028Z
UID:6699262026-07-19 10:00:00+01:00achurchnearyou
CATEGORIES:
DESCRIPTION:This is our main weekly service at St Luke's each week. We gat
 her on Sunday mornings to worship God\, pray for the world\, listen to the
  scriptures\, hear relevant and inspiring teaching\, and finally share the
  meal of Holy Communion\, in which we receive bread and wine which become 
 for us the body and blood of Jesus. All are welcome!
LOCATION:St Luke
URL:https://www.achurchnearyou.com/church/15626/service-and-events/events/
 669926/
END:VEVENT
BEGIN:VEVENT
SUMMARY:Sunday Holy Communion @ St Luke's
DTSTART;TZID=Europe/London:20260802T100000
DTEND;TZID=Europe/London:20260802T104000
DTSTAMP:20260421T132028Z
UID:6699262026-08-02 10:00:00+01:00achurchnearyou
CATEGORIES:
DESCRIPTION:This is our main weekly service at St Luke's each week. We gat
 her on Sunday mornings to worship God\, pray for the world\, listen to the
  scriptures\, hear relevant and inspiring teaching\, and finally share the
  meal of Holy Communion\, in which we receive bread and wine which become 
 for us the body and blood of Jesus. All are welcome!
LOCATION:St Luke
URL:https://www.achurchnearyou.com/church/15626/service-and-events/events/
 669926/
END:VEVENT
BEGIN:VEVENT
SUMMARY:Sunday Holy Communion @ St Luke's
DTSTART;TZID=Europe/London:20260816T100000
DTEND;TZID=Europe/London:20260816T104000
DTSTAMP:20260421T132028Z
UID:6699262026-08-16 10:00:00+01:00achurchnearyou
CATEGORIES:
DESCRIPTION:This is our main weekly service at St Luke's each week. We gat
 her on Sunday mornings to worship God\, pray for the world\, listen to the
  scriptures\, hear relevant and inspiring teaching\, and finally share the
  meal of Holy Communion\, in which we receive bread and wine which become 
 for us the body and blood of Jesus. All are welcome!
LOCATION:St Luke
URL:https://www.achurchnearyou.com/church/15626/service-and-events/events/
 669926/
END:VEVENT
BEGIN:VEVENT
SUMMARY:Sunday Holy Communion @ St Luke's
DTSTART;TZID=Europe/London:20260830T100000
DTEND;TZID=Europe/London:20260830T104000
DTSTAMP:20260421T132028Z
UID:6699262026-08-30 10:00:00+01:00achurchnearyou
CATEGORIES:
DESCRIPTION:This is our main weekly service at St Luke's each week. We gat
 her on Sunday mornings to worship God\, pray for the world\, listen to the
  scriptures\, hear relevant and inspiring teaching\, and finally share the
  meal of Holy Communion\, in which we receive bread and wine which become 
 for us the body and blood of Jesus. All are welcome!
LOCATION:St Luke
URL:https://www.achurchnearyou.com/church/15626/service-and-events/events/
 669926/
END:VEVENT
BEGIN:VEVENT
SUMMARY:Sunday Holy Communion @ St Luke's
DTSTART;TZID=Europe/London:20260906T100000
DTEND;TZID=Europe/London:20260906T104000
DTSTAMP:20260421T132028Z
UID:6699262026-09-06 10:00:00+01:00achurchnearyou
CATEGORIES:
DESCRIPTION:This is our main weekly service at St Luke's each week. We gat
 her on Sunday mornings to worship God\, pray for the world\, listen to the
  scriptures\, hear relevant and inspiring teaching\, and finally share the
  meal of Holy Communion\, in which we receive bread and wine which become 
 for us the body and blood of Jesus. All are welcome!
LOCATION:St Luke
URL:https://www.achurchnearyou.com/church/15626/service-and-events/events/
 669926/
END:VEVENT
BEGIN:VEVENT
SUMMARY:Sunday Holy Communion @ St Luke's
DTSTART;TZID=Europe/London:20260920T100000
DTEND;TZID=Europe/London:20260920T104000
DTSTAMP:20260421T132028Z
UID:6699262026-09-20 10:00:00+01:00achurchnearyou
CATEGORIES:
DESCRIPTION:This is our main weekly service at St Luke's each week. We gat
 her on Sunday mornings to worship God\, pray for the world\, listen to the
  scriptures\, hear relevant and inspiring teaching\, and finally share the
  meal of Holy Communion\, in which we receive bread and wine which become 
 for us the body and blood of Jesus. All are welcome!
LOCATION:St Luke
URL:https://www.achurchnearyou.com/church/15626/service-and-events/events/
 669926/
END:VEVENT
BEGIN:VEVENT
SUMMARY:Sunday Holy Communion @ St Luke's
DTSTART;TZID=Europe/London:20261004T100000
DTEND;TZID=Europe/London:20261004T104000
DTSTAMP:20260421T132028Z
UID:6699262026-10-04 10:00:00+01:00achurchnearyou
CATEGORIES:
DESCRIPTION:This is our main weekly service at St Luke's each week. We gat
 her on Sunday mornings to worship God\, pray for the world\, listen to the
  scriptures\, hear relevant and inspiring teaching\, and finally share the
  meal of Holy Communion\, in which we receive bread and wine which become 
 for us the body and blood of Jesus. All are welcome!
LOCATION:St Luke
URL:https://www.achurchnearyou.com/church/15626/service-and-events/events/
 669926/
END:VEVENT
BEGIN:VEVENT
SUMMARY:Sunday Holy Communion @ St Luke's
DTSTART;TZID=Europe/London:20261018T100000
DTEND;TZID=Europe/London:20261018T104000
DTSTAMP:20260421T132028Z
UID:6699262026-10-18 10:00:00+01:00achurchnearyou
CATEGORIES:
DESCRIPTION:This is our main weekly service at St Luke's each week. We gat
 her on Sunday mornings to worship God\, pray for the world\, listen to the
  scriptures\, hear relevant and inspiring teaching\, and finally share the
  meal of Holy Communion\, in which we receive bread and wine which become 
 for us the body and blood of Jesus. All are welcome!
LOCATION:St Luke
URL:https://www.achurchnearyou.com/church/15626/service-and-events/events/
 669926/
END:VEVENT
BEGIN:VEVENT
SUMMARY:Sunday Holy Communion @ St Luke's
DTSTART;TZID=Europe/London:20261101T100000
DTEND;TZID=Europe/London:20261101T104000
DTSTAMP:20260421T132028Z
UID:6699262026-11-01 10:00:00+00:00achurchnearyou
CATEGORIES:
DESCRIPTION:This is our main weekly service at St Luke's each week. We gat
 her on Sunday mornings to worship God\, pray for the world\, listen to the
  scriptures\, hear relevant and inspiring teaching\, and finally share the
  meal of Holy Communion\, in which we receive bread and wine which become 
 for us the body and blood of Jesus. All are welcome!
LOCATION:St Luke
URL:https://www.achurchnearyou.com/church/15626/service-and-events/events/
 669926/
END:VEVENT
BEGIN:VEVENT
SUMMARY:Sunday Holy Communion @ St Luke's
DTSTART;TZID=Europe/London:20261115T100000
DTEND;TZID=Europe/London:20261115T104000
DTSTAMP:20260421T132028Z
UID:6699262026-11-15 10:00:00+00:00achurchnearyou
CATEGORIES:
DESCRIPTION:This is our main weekly service at St Luke's each week. We gat
 her on Sunday mornings to worship God\, pray for the world\, listen to the
  scriptures\, hear relevant and inspiring teaching\, and finally share the
  meal of Holy Communion\, in which we receive bread and wine which become 
 for us the body and blood of Jesus. All are welcome!
LOCATION:St Luke
URL:https://www.achurchnearyou.com/church/15626/service-and-events/events/
 669926/
END:VEVENT
BEGIN:VEVENT
SUMMARY:Sunday Holy Communion @ St Luke's
DTSTART;TZID=Europe/London:20261129T100000
DTEND;TZID=Europe/London:20261129T104000
DTSTAMP:20260421T132028Z
UID:6699262026-11-29 10:00:00+00:00achurchnearyou
CATEGORIES:
DESCRIPTION:This is our main weekly service at St Luke's each week. We gat
 her on Sunday mornings to worship God\, pray for the world\, listen to the
  scriptures\, hear relevant and inspiring teaching\, and finally share the
  meal of Holy Communion\, in which we receive bread and wine which become 
 for us the body and blood of Jesus. All are welcome!
LOCATION:St Luke
URL:https://www.achurchnearyou.com/church/15626/service-and-events/events/
 669926/
END:VEVENT
BEGIN:VEVENT
SUMMARY:Sunday Holy Communion @ St Luke's
DTSTART;TZID=Europe/London:20261206T100000
DTEND;TZID=Europe/London:20261206T104000
DTSTAMP:20260421T132028Z
UID:6699262026-12-06 10:00:00+00:00achurchnearyou
CATEGORIES:
DESCRIPTION:This is our main weekly service at St Luke's each week. We gat
 her on Sunday mornings to worship God\, pray for the world\, listen to the
  scriptures\, hear relevant and inspiring teaching\, and finally share the
  meal of Holy Communion\, in which we receive bread and wine which become 
 for us the body and blood of Jesus. All are welcome!
LOCATION:St Luke
URL:https://www.achurchnearyou.com/church/15626/service-and-events/events/
 669926/
END:VEVENT
BEGIN:VEVENT
SUMMARY:Sunday Holy Communion @ St Luke's
DTSTART;TZID=Europe/London:20261220T100000
DTEND;TZID=Europe/London:20261220T104000
DTSTAMP:20260421T132028Z
UID:6699262026-12-20 10:00:00+00:00achurchnearyou
CATEGORIES:
DESCRIPTION:This is our main weekly service at St Luke's each week. We gat
 her on Sunday mornings to worship God\, pray for the world\, listen to the
  scriptures\, hear relevant and inspiring teaching\, and finally share the
  meal of Holy Communion\, in which we receive bread and wine which become 
 for us the body and blood of Jesus. All are welcome!
LOCATION:St Luke
URL:https://www.achurchnearyou.com/church/15626/service-and-events/events/
 669926/
END:VEVENT
BEGIN:VEVENT
SUMMARY:Sunday Holy Communion @ St Luke's
DTSTART;TZID=Europe/London:20270103T100000
DTEND;TZID=Europe/London:20270103T104000
DTSTAMP:20260421T132028Z
UID:6699262027-01-03 10:00:00+00:00achurchnearyou
CATEGORIES:
DESCRIPTION:This is our main weekly service at St Luke's each week. We gat
 her on Sunday mornings to worship God\, pray for the world\, listen to the
  scriptures\, hear relevant and inspiring teaching\, and finally share the
  meal of Holy Communion\, in which we receive bread and wine which become 
 for us the body and blood of Jesus. All are welcome!
LOCATION:St Luke
URL:https://www.achurchnearyou.com/church/15626/service-and-events/events/
 669926/
END:VEVENT
BEGIN:VEVENT
SUMMARY:Sunday Holy Communion @ St Luke's
DTSTART;TZID=Europe/London:20270117T100000
DTEND;TZID=Europe/London:20270117T104000
DTSTAMP:20260421T132028Z
UID:6699262027-01-17 10:00:00+00:00achurchnearyou
CATEGORIES:
DESCRIPTION:This is our main weekly service at St Luke's each week. We gat
 her on Sunday mornings to worship God\, pray for the world\, listen to the
  scriptures\, hear relevant and inspiring teaching\, and finally share the
  meal of Holy Communion\, in which we receive bread and wine which become 
 for us the body and blood of Jesus. All are welcome!
LOCATION:St Luke
URL:https://www.achurchnearyou.com/church/15626/service-and-events/events/
 669926/
END:VEVENT
BEGIN:VEVENT
SUMMARY:Sunday Holy Communion @ St Luke's
DTSTART;TZID=Europe/London:20270131T100000
DTEND;TZID=Europe/London:20270131T104000
DTSTAMP:20260421T132028Z
UID:6699262027-01-31 10:00:00+00:00achurchnearyou
CATEGORIES:
DESCRIPTION:This is our main weekly service at St Luke's each week. We gat
 her on Sunday mornings to worship God\, pray for the world\, listen to the
  scriptures\, hear relevant and inspiring teaching\, and finally share the
  meal of Holy Communion\, in which we receive bread and wine which become 
 for us the body and blood of Jesus. All are welcome!
LOCATION:St Luke
URL:https://www.achurchnearyou.com/church/15626/service-and-events/events/
 669926/
END:VEVENT
BEGIN:VEVENT
SUMMARY:Sunday Holy Communion @ St Luke's
DTSTART;TZID=Europe/London:20270207T100000
DTEND;TZID=Europe/London:20270207T104000
DTSTAMP:20260421T132028Z
UID:6699262027-02-07 10:00:00+00:00achurchnearyou
CATEGORIES:
DESCRIPTION:This is our main weekly service at St Luke's each week. We gat
 her on Sunday mornings to worship God\, pray for the world\, listen to the
  scriptures\, hear relevant and inspiring teaching\, and finally share the
  meal of Holy Communion\, in which we receive bread and wine which become 
 for us the body and blood of Jesus. All are welcome!
LOCATION:St Luke
URL:https://www.achurchnearyou.com/church/15626/service-and-events/events/
 669926/
END:VEVENT
BEGIN:VEVENT
SUMMARY:Sunday Holy Communion @ St Luke's
DTSTART;TZID=Europe/London:20270221T100000
DTEND;TZID=Europe/London:20270221T104000
DTSTAMP:20260421T132028Z
UID:6699262027-02-21 10:00:00+00:00achurchnearyou
CATEGORIES:
DESCRIPTION:This is our main weekly service at St Luke's each week. We gat
 her on Sunday mornings to worship God\, pray for the world\, listen to the
  scriptures\, hear relevant and inspiring teaching\, and finally share the
  meal of Holy Communion\, in which we receive bread and wine which become 
 for us the body and blood of Jesus. All are welcome!
LOCATION:St Luke
URL:https://www.achurchnearyou.com/church/15626/service-and-events/events/
 669926/
END:VEVENT
BEGIN:VEVENT
SUMMARY:Sunday Holy Communion @ St Luke's
DTSTART;TZID=Europe/London:20270307T100000
DTEND;TZID=Europe/London:20270307T104000
DTSTAMP:20260421T132028Z
UID:6699262027-03-07 10:00:00+00:00achurchnearyou
CATEGORIES:
DESCRIPTION:This is our main weekly service at St Luke's each week. We gat
 her on Sunday mornings to worship God\, pray for the world\, listen to the
  scriptures\, hear relevant and inspiring teaching\, and finally share the
  meal of Holy Communion\, in which we receive bread and wine which become 
 for us the body and blood of Jesus. All are welcome!
LOCATION:St Luke
URL:https://www.achurchnearyou.com/church/15626/service-and-events/events/
 669926/
END:VEVENT
BEGIN:VEVENT
SUMMARY:Sunday Holy Communion @ St Luke's
DTSTART;TZID=Europe/London:20270321T100000
DTEND;TZID=Europe/London:20270321T104000
DTSTAMP:20260421T132028Z
UID:6699262027-03-21 10:00:00+00:00achurchnearyou
CATEGORIES:
DESCRIPTION:This is our main weekly service at St Luke's each week. We gat
 her on Sunday mornings to worship God\, pray for the world\, listen to the
  scriptures\, hear relevant and inspiring teaching\, and finally share the
  meal of Holy Communion\, in which we receive bread and wine which become 
 for us the body and blood of Jesus. All are welcome!
LOCATION:St Luke
URL:https://www.achurchnearyou.com/church/15626/service-and-events/events/
 669926/
END:VEVENT
BEGIN:VEVENT
SUMMARY:Sunday Holy Communion @ St Luke's
DTSTART;TZID=Europe/London:20270404T100000
DTEND;TZID=Europe/London:20270404T104000
DTSTAMP:20260421T132028Z
UID:6699262027-04-04 10:00:00+01:00achurchnearyou
CATEGORIES:
DESCRIPTION:This is our main weekly service at St Luke's each week. We gat
 her on Sunday mornings to worship God\, pray for the world\, listen to the
  scriptures\, hear relevant and inspiring teaching\, and finally share the
  meal of Holy Communion\, in which we receive bread and wine which become 
 for us the body and blood of Jesus. All are welcome!
LOCATION:St Luke
URL:https://www.achurchnearyou.com/church/15626/service-and-events/events/
 669926/
END:VEVENT
BEGIN:VEVENT
SUMMARY:Sunday Holy Communion @ St Luke's
DTSTART;TZID=Europe/London:20270418T100000
DTEND;TZID=Europe/London:20270418T104000
DTSTAMP:20260421T132028Z
UID:6699262027-04-18 10:00:00+01:00achurchnearyou
CATEGORIES:
DESCRIPTION:This is our main weekly service at St Luke's each week. We gat
 her on Sunday mornings to worship God\, pray for the world\, listen to the
  scriptures\, hear relevant and inspiring teaching\, and finally share the
  meal of Holy Communion\, in which we receive bread and wine which become 
 for us the body and blood of Jesus. All are welcome!
LOCATION:St Luke
URL:https://www.achurchnearyou.com/church/15626/service-and-events/events/
 669926/
END:VEVENT
END:VCALENDAR
